BEGIN:VCALENDAR
VERSION:2.0
PRODID:-//St. Mathew&#039;s Episcopal Church - ECPv6.15.20//NONSGML v1.0//EN
CALSCALE:GREGORIAN
METHOD:PUBLISH
X-WR-CALNAME:St. Mathew&#039;s Episcopal Church
X-ORIGINAL-URL:https://stmatthewskenosha.net
X-WR-CALDESC:Events for St. Mathew&#039;s Episcopal Church
REFRESH-INTERVAL;VALUE=DURATION:PT1H
X-Robots-Tag:noindex
X-PUBLISHED-TTL:PT1H
BEGIN:VTIMEZONE
TZID:America/Chicago
BEGIN:DAYLIGHT
TZOFFSETFROM:-0600
TZOFFSETTO:-0500
TZNAME:CDT
DTSTART:20260308T080000
END:DAYLIGHT
BEGIN:STANDARD
TZOFFSETFROM:-0500
TZOFFSETTO:-0600
TZNAME:CST
DTSTART:20261101T070000
END:STANDARD
BEGIN:DAYLIGHT
TZOFFSETFROM:-0600
TZOFFSETTO:-0500
TZNAME:CDT
DTSTART:20270314T080000
END:DAYLIGHT
BEGIN:STANDARD
TZOFFSETFROM:-0500
TZOFFSETTO:-0600
TZNAME:CST
DTSTART:20271107T070000
END:STANDARD
BEGIN:DAYLIGHT
TZOFFSETFROM:-0600
TZOFFSETTO:-0500
TZNAME:CDT
DTSTART:20280312T080000
END:DAYLIGHT
BEGIN:STANDARD
TZOFFSETFROM:-0500
TZOFFSETTO:-0600
TZNAME:CST
DTSTART:20281105T070000
END:STANDARD
END:VTIMEZONE
BEGIN:VEVENT
DTSTART;TZID=America/Chicago:20270110T073000
DTEND;TZID=America/Chicago:20270110T083000
DTSTAMP:20260422T051030
CREATED:20260414T152122Z
LAST-MODIFIED:20260414T152126Z
UID:10000707-1799566200-1799569800@stmatthewskenosha.net
SUMMARY:Holy Eucharist (Early Service)
DESCRIPTION:Traditional Sunday worship service with Holy Eucharist & sermon
URL:https://stmatthewskenosha.net/event/holy-eucharist-early-service/2027-01-10/
LOCATION:St. Matthew’s Episcopal Church\, 5900 7th Ave\, Kenosha\, WI\, 53140\, United States
END:VEVENT
BEGIN:VEVENT
DTSTART;TZID=America/Chicago:20270110T110000
DTEND;TZID=America/Chicago:20270110T120000
DTSTAMP:20260422T051030
CREATED:20260414T152437Z
LAST-MODIFIED:20260414T152443Z
UID:10000965-1799578800-1799582400@stmatthewskenosha.net
SUMMARY:Holy Eucharist (Late Service)
DESCRIPTION:Traditional Sunday worship service with Holy Eucharist\, music & sermon
URL:https://stmatthewskenosha.net/event/holy-eucharist-late-service/2027-01-10/
LOCATION:St. Matthew’s Episcopal Church\, 5900 7th Ave\, Kenosha\, WI\, 53140\, United States
END:VEVENT
BEGIN:VEVENT
DTSTART;TZID=America/Chicago:20270117T073000
DTEND;TZID=America/Chicago:20270117T083000
DTSTAMP:20260422T051030
CREATED:20260414T152122Z
LAST-MODIFIED:20260414T152126Z
UID:10000708-1800171000-1800174600@stmatthewskenosha.net
SUMMARY:Holy Eucharist (Early Service)
DESCRIPTION:Traditional Sunday worship service with Holy Eucharist & sermon
URL:https://stmatthewskenosha.net/event/holy-eucharist-early-service/2027-01-17/
LOCATION:St. Matthew’s Episcopal Church\, 5900 7th Ave\, Kenosha\, WI\, 53140\, United States
END:VEVENT
BEGIN:VEVENT
DTSTART;TZID=America/Chicago:20270117T110000
DTEND;TZID=America/Chicago:20270117T120000
DTSTAMP:20260422T051030
CREATED:20260414T152437Z
LAST-MODIFIED:20260414T152443Z
UID:10000966-1800183600-1800187200@stmatthewskenosha.net
SUMMARY:Holy Eucharist (Late Service)
DESCRIPTION:Traditional Sunday worship service with Holy Eucharist\, music & sermon
URL:https://stmatthewskenosha.net/event/holy-eucharist-late-service/2027-01-17/
LOCATION:St. Matthew’s Episcopal Church\, 5900 7th Ave\, Kenosha\, WI\, 53140\, United States
END:VEVENT
BEGIN:VEVENT
DTSTART;TZID=America/Chicago:20270124T073000
DTEND;TZID=America/Chicago:20270124T083000
DTSTAMP:20260422T051030
CREATED:20260414T152122Z
LAST-MODIFIED:20260414T152126Z
UID:10000709-1800775800-1800779400@stmatthewskenosha.net
SUMMARY:Holy Eucharist (Early Service)
DESCRIPTION:Traditional Sunday worship service with Holy Eucharist & sermon
URL:https://stmatthewskenosha.net/event/holy-eucharist-early-service/2027-01-24/
LOCATION:St. Matthew’s Episcopal Church\, 5900 7th Ave\, Kenosha\, WI\, 53140\, United States
END:VEVENT
BEGIN:VEVENT
DTSTART;TZID=America/Chicago:20270124T110000
DTEND;TZID=America/Chicago:20270124T120000
DTSTAMP:20260422T051030
CREATED:20260414T152437Z
LAST-MODIFIED:20260414T152443Z
UID:10000967-1800788400-1800792000@stmatthewskenosha.net
SUMMARY:Holy Eucharist (Late Service)
DESCRIPTION:Traditional Sunday worship service with Holy Eucharist\, music & sermon
URL:https://stmatthewskenosha.net/event/holy-eucharist-late-service/2027-01-24/
LOCATION:St. Matthew’s Episcopal Church\, 5900 7th Ave\, Kenosha\, WI\, 53140\, United States
END:VEVENT
BEGIN:VEVENT
DTSTART;TZID=America/Chicago:20270131T073000
DTEND;TZID=America/Chicago:20270131T083000
DTSTAMP:20260422T051030
CREATED:20260414T152122Z
LAST-MODIFIED:20260414T152126Z
UID:10000710-1801380600-1801384200@stmatthewskenosha.net
SUMMARY:Holy Eucharist (Early Service)
DESCRIPTION:Traditional Sunday worship service with Holy Eucharist & sermon
URL:https://stmatthewskenosha.net/event/holy-eucharist-early-service/2027-01-31/
LOCATION:St. Matthew’s Episcopal Church\, 5900 7th Ave\, Kenosha\, WI\, 53140\, United States
END:VEVENT
BEGIN:VEVENT
DTSTART;TZID=America/Chicago:20270131T110000
DTEND;TZID=America/Chicago:20270131T120000
DTSTAMP:20260422T051030
CREATED:20260414T152437Z
LAST-MODIFIED:20260414T152443Z
UID:10000968-1801393200-1801396800@stmatthewskenosha.net
SUMMARY:Holy Eucharist (Late Service)
DESCRIPTION:Traditional Sunday worship service with Holy Eucharist\, music & sermon
URL:https://stmatthewskenosha.net/event/holy-eucharist-late-service/2027-01-31/
LOCATION:St. Matthew’s Episcopal Church\, 5900 7th Ave\, Kenosha\, WI\, 53140\, United States
END:VEVENT
BEGIN:VEVENT
DTSTART;TZID=America/Chicago:20270207T073000
DTEND;TZID=America/Chicago:20270207T083000
DTSTAMP:20260422T051030
CREATED:20260414T152122Z
LAST-MODIFIED:20260414T152126Z
UID:10000711-1801985400-1801989000@stmatthewskenosha.net
SUMMARY:Holy Eucharist (Early Service)
DESCRIPTION:Traditional Sunday worship service with Holy Eucharist & sermon
URL:https://stmatthewskenosha.net/event/holy-eucharist-early-service/2027-02-07/
LOCATION:St. Matthew’s Episcopal Church\, 5900 7th Ave\, Kenosha\, WI\, 53140\, United States
END:VEVENT
BEGIN:VEVENT
DTSTART;TZID=America/Chicago:20270207T110000
DTEND;TZID=America/Chicago:20270207T120000
DTSTAMP:20260422T051030
CREATED:20260414T152437Z
LAST-MODIFIED:20260414T152443Z
UID:10000969-1801998000-1802001600@stmatthewskenosha.net
SUMMARY:Holy Eucharist (Late Service)
DESCRIPTION:Traditional Sunday worship service with Holy Eucharist\, music & sermon
URL:https://stmatthewskenosha.net/event/holy-eucharist-late-service/2027-02-07/
LOCATION:St. Matthew’s Episcopal Church\, 5900 7th Ave\, Kenosha\, WI\, 53140\, United States
END:VEVENT
BEGIN:VEVENT
DTSTART;TZID=America/Chicago:20270214T073000
DTEND;TZID=America/Chicago:20270214T083000
DTSTAMP:20260422T051030
CREATED:20260414T152122Z
LAST-MODIFIED:20260414T152126Z
UID:10000712-1802590200-1802593800@stmatthewskenosha.net
SUMMARY:Holy Eucharist (Early Service)
DESCRIPTION:Traditional Sunday worship service with Holy Eucharist & sermon
URL:https://stmatthewskenosha.net/event/holy-eucharist-early-service/2027-02-14/
LOCATION:St. Matthew’s Episcopal Church\, 5900 7th Ave\, Kenosha\, WI\, 53140\, United States
END:VEVENT
BEGIN:VEVENT
DTSTART;TZID=America/Chicago:20270214T110000
DTEND;TZID=America/Chicago:20270214T120000
DTSTAMP:20260422T051030
CREATED:20260414T152437Z
LAST-MODIFIED:20260414T152443Z
UID:10000970-1802602800-1802606400@stmatthewskenosha.net
SUMMARY:Holy Eucharist (Late Service)
DESCRIPTION:Traditional Sunday worship service with Holy Eucharist\, music & sermon
URL:https://stmatthewskenosha.net/event/holy-eucharist-late-service/2027-02-14/
LOCATION:St. Matthew’s Episcopal Church\, 5900 7th Ave\, Kenosha\, WI\, 53140\, United States
END:VEVENT
BEGIN:VEVENT
DTSTART;TZID=America/Chicago:20270221T073000
DTEND;TZID=America/Chicago:20270221T083000
DTSTAMP:20260422T051030
CREATED:20260414T152122Z
LAST-MODIFIED:20260414T152126Z
UID:10000713-1803195000-1803198600@stmatthewskenosha.net
SUMMARY:Holy Eucharist (Early Service)
DESCRIPTION:Traditional Sunday worship service with Holy Eucharist & sermon
URL:https://stmatthewskenosha.net/event/holy-eucharist-early-service/2027-02-21/
LOCATION:St. Matthew’s Episcopal Church\, 5900 7th Ave\, Kenosha\, WI\, 53140\, United States
END:VEVENT
BEGIN:VEVENT
DTSTART;TZID=America/Chicago:20270221T110000
DTEND;TZID=America/Chicago:20270221T120000
DTSTAMP:20260422T051030
CREATED:20260414T152437Z
LAST-MODIFIED:20260414T152443Z
UID:10000971-1803207600-1803211200@stmatthewskenosha.net
SUMMARY:Holy Eucharist (Late Service)
DESCRIPTION:Traditional Sunday worship service with Holy Eucharist\, music & sermon
URL:https://stmatthewskenosha.net/event/holy-eucharist-late-service/2027-02-21/
LOCATION:St. Matthew’s Episcopal Church\, 5900 7th Ave\, Kenosha\, WI\, 53140\, United States
END:VEVENT
BEGIN:VEVENT
DTSTART;TZID=America/Chicago:20270228T073000
DTEND;TZID=America/Chicago:20270228T083000
DTSTAMP:20260422T051030
CREATED:20260414T152122Z
LAST-MODIFIED:20260414T152126Z
UID:10000714-1803799800-1803803400@stmatthewskenosha.net
SUMMARY:Holy Eucharist (Early Service)
DESCRIPTION:Traditional Sunday worship service with Holy Eucharist & sermon
URL:https://stmatthewskenosha.net/event/holy-eucharist-early-service/2027-02-28/
LOCATION:St. Matthew’s Episcopal Church\, 5900 7th Ave\, Kenosha\, WI\, 53140\, United States
END:VEVENT
BEGIN:VEVENT
DTSTART;TZID=America/Chicago:20270228T110000
DTEND;TZID=America/Chicago:20270228T120000
DTSTAMP:20260422T051030
CREATED:20260414T152437Z
LAST-MODIFIED:20260414T152443Z
UID:10000972-1803812400-1803816000@stmatthewskenosha.net
SUMMARY:Holy Eucharist (Late Service)
DESCRIPTION:Traditional Sunday worship service with Holy Eucharist\, music & sermon
URL:https://stmatthewskenosha.net/event/holy-eucharist-late-service/2027-02-28/
LOCATION:St. Matthew’s Episcopal Church\, 5900 7th Ave\, Kenosha\, WI\, 53140\, United States
END:VEVENT
BEGIN:VEVENT
DTSTART;TZID=America/Chicago:20270307T073000
DTEND;TZID=America/Chicago:20270307T083000
DTSTAMP:20260422T051030
CREATED:20260414T152122Z
LAST-MODIFIED:20260414T152126Z
UID:10000715-1804404600-1804408200@stmatthewskenosha.net
SUMMARY:Holy Eucharist (Early Service)
DESCRIPTION:Traditional Sunday worship service with Holy Eucharist & sermon
URL:https://stmatthewskenosha.net/event/holy-eucharist-early-service/2027-03-07/
LOCATION:St. Matthew’s Episcopal Church\, 5900 7th Ave\, Kenosha\, WI\, 53140\, United States
END:VEVENT
BEGIN:VEVENT
DTSTART;TZID=America/Chicago:20270307T110000
DTEND;TZID=America/Chicago:20270307T120000
DTSTAMP:20260422T051031
CREATED:20260414T152437Z
LAST-MODIFIED:20260414T152443Z
UID:10000973-1804417200-1804420800@stmatthewskenosha.net
SUMMARY:Holy Eucharist (Late Service)
DESCRIPTION:Traditional Sunday worship service with Holy Eucharist\, music & sermon
URL:https://stmatthewskenosha.net/event/holy-eucharist-late-service/2027-03-07/
LOCATION:St. Matthew’s Episcopal Church\, 5900 7th Ave\, Kenosha\, WI\, 53140\, United States
END:VEVENT
BEGIN:VEVENT
DTSTART;TZID=America/Chicago:20270314T073000
DTEND;TZID=America/Chicago:20270314T083000
DTSTAMP:20260422T051031
CREATED:20260414T152122Z
LAST-MODIFIED:20260414T152126Z
UID:10000716-1805009400-1805013000@stmatthewskenosha.net
SUMMARY:Holy Eucharist (Early Service)
DESCRIPTION:Traditional Sunday worship service with Holy Eucharist & sermon
URL:https://stmatthewskenosha.net/event/holy-eucharist-early-service/2027-03-14/
LOCATION:St. Matthew’s Episcopal Church\, 5900 7th Ave\, Kenosha\, WI\, 53140\, United States
END:VEVENT
BEGIN:VEVENT
DTSTART;TZID=America/Chicago:20270314T110000
DTEND;TZID=America/Chicago:20270314T120000
DTSTAMP:20260422T051031
CREATED:20260414T152437Z
LAST-MODIFIED:20260414T152443Z
UID:10000974-1805022000-1805025600@stmatthewskenosha.net
SUMMARY:Holy Eucharist (Late Service)
DESCRIPTION:Traditional Sunday worship service with Holy Eucharist\, music & sermon
URL:https://stmatthewskenosha.net/event/holy-eucharist-late-service/2027-03-14/
LOCATION:St. Matthew’s Episcopal Church\, 5900 7th Ave\, Kenosha\, WI\, 53140\, United States
END:VEVENT
BEGIN:VEVENT
DTSTART;TZID=America/Chicago:20270321T073000
DTEND;TZID=America/Chicago:20270321T083000
DTSTAMP:20260422T051031
CREATED:20260414T152122Z
LAST-MODIFIED:20260414T152126Z
UID:10000717-1805614200-1805617800@stmatthewskenosha.net
SUMMARY:Holy Eucharist (Early Service)
DESCRIPTION:Traditional Sunday worship service with Holy Eucharist & sermon
URL:https://stmatthewskenosha.net/event/holy-eucharist-early-service/2027-03-21/
LOCATION:St. Matthew’s Episcopal Church\, 5900 7th Ave\, Kenosha\, WI\, 53140\, United States
END:VEVENT
BEGIN:VEVENT
DTSTART;TZID=America/Chicago:20270321T110000
DTEND;TZID=America/Chicago:20270321T120000
DTSTAMP:20260422T051031
CREATED:20260414T152437Z
LAST-MODIFIED:20260414T152443Z
UID:10000975-1805626800-1805630400@stmatthewskenosha.net
SUMMARY:Holy Eucharist (Late Service)
DESCRIPTION:Traditional Sunday worship service with Holy Eucharist\, music & sermon
URL:https://stmatthewskenosha.net/event/holy-eucharist-late-service/2027-03-21/
LOCATION:St. Matthew’s Episcopal Church\, 5900 7th Ave\, Kenosha\, WI\, 53140\, United States
END:VEVENT
BEGIN:VEVENT
DTSTART;TZID=America/Chicago:20270328T073000
DTEND;TZID=America/Chicago:20270328T083000
DTSTAMP:20260422T051031
CREATED:20260414T152122Z
LAST-MODIFIED:20260414T152126Z
UID:10000718-1806219000-1806222600@stmatthewskenosha.net
SUMMARY:Holy Eucharist (Early Service)
DESCRIPTION:Traditional Sunday worship service with Holy Eucharist & sermon
URL:https://stmatthewskenosha.net/event/holy-eucharist-early-service/2027-03-28/
LOCATION:St. Matthew’s Episcopal Church\, 5900 7th Ave\, Kenosha\, WI\, 53140\, United States
END:VEVENT
BEGIN:VEVENT
DTSTART;TZID=America/Chicago:20270328T110000
DTEND;TZID=America/Chicago:20270328T120000
DTSTAMP:20260422T051031
CREATED:20260414T152437Z
LAST-MODIFIED:20260414T152443Z
UID:10000976-1806231600-1806235200@stmatthewskenosha.net
SUMMARY:Holy Eucharist (Late Service)
DESCRIPTION:Traditional Sunday worship service with Holy Eucharist\, music & sermon
URL:https://stmatthewskenosha.net/event/holy-eucharist-late-service/2027-03-28/
LOCATION:St. Matthew’s Episcopal Church\, 5900 7th Ave\, Kenosha\, WI\, 53140\, United States
END:VEVENT
BEGIN:VEVENT
DTSTART;TZID=America/Chicago:20270404T073000
DTEND;TZID=America/Chicago:20270404T083000
DTSTAMP:20260422T051031
CREATED:20260414T152122Z
LAST-MODIFIED:20260414T152126Z
UID:10000719-1806823800-1806827400@stmatthewskenosha.net
SUMMARY:Holy Eucharist (Early Service)
DESCRIPTION:Traditional Sunday worship service with Holy Eucharist & sermon
URL:https://stmatthewskenosha.net/event/holy-eucharist-early-service/2027-04-04/
LOCATION:St. Matthew’s Episcopal Church\, 5900 7th Ave\, Kenosha\, WI\, 53140\, United States
END:VEVENT
BEGIN:VEVENT
DTSTART;TZID=America/Chicago:20270404T110000
DTEND;TZID=America/Chicago:20270404T120000
DTSTAMP:20260422T051031
CREATED:20260414T152437Z
LAST-MODIFIED:20260414T152443Z
UID:10000977-1806836400-1806840000@stmatthewskenosha.net
SUMMARY:Holy Eucharist (Late Service)
DESCRIPTION:Traditional Sunday worship service with Holy Eucharist\, music & sermon
URL:https://stmatthewskenosha.net/event/holy-eucharist-late-service/2027-04-04/
LOCATION:St. Matthew’s Episcopal Church\, 5900 7th Ave\, Kenosha\, WI\, 53140\, United States
END:VEVENT
BEGIN:VEVENT
DTSTART;TZID=America/Chicago:20270411T073000
DTEND;TZID=America/Chicago:20270411T083000
DTSTAMP:20260422T051031
CREATED:20260414T152122Z
LAST-MODIFIED:20260414T152126Z
UID:10000720-1807428600-1807432200@stmatthewskenosha.net
SUMMARY:Holy Eucharist (Early Service)
DESCRIPTION:Traditional Sunday worship service with Holy Eucharist & sermon
URL:https://stmatthewskenosha.net/event/holy-eucharist-early-service/2027-04-11/
LOCATION:St. Matthew’s Episcopal Church\, 5900 7th Ave\, Kenosha\, WI\, 53140\, United States
END:VEVENT
BEGIN:VEVENT
DTSTART;TZID=America/Chicago:20270411T110000
DTEND;TZID=America/Chicago:20270411T120000
DTSTAMP:20260422T051031
CREATED:20260414T152437Z
LAST-MODIFIED:20260414T152443Z
UID:10000978-1807441200-1807444800@stmatthewskenosha.net
SUMMARY:Holy Eucharist (Late Service)
DESCRIPTION:Traditional Sunday worship service with Holy Eucharist\, music & sermon
URL:https://stmatthewskenosha.net/event/holy-eucharist-late-service/2027-04-11/
LOCATION:St. Matthew’s Episcopal Church\, 5900 7th Ave\, Kenosha\, WI\, 53140\, United States
END:VEVENT
BEGIN:VEVENT
DTSTART;TZID=America/Chicago:20270418T073000
DTEND;TZID=America/Chicago:20270418T083000
DTSTAMP:20260422T051031
CREATED:20260414T152122Z
LAST-MODIFIED:20260414T152126Z
UID:10000721-1808033400-1808037000@stmatthewskenosha.net
SUMMARY:Holy Eucharist (Early Service)
DESCRIPTION:Traditional Sunday worship service with Holy Eucharist & sermon
URL:https://stmatthewskenosha.net/event/holy-eucharist-early-service/2027-04-18/
LOCATION:St. Matthew’s Episcopal Church\, 5900 7th Ave\, Kenosha\, WI\, 53140\, United States
END:VEVENT
BEGIN:VEVENT
DTSTART;TZID=America/Chicago:20270418T110000
DTEND;TZID=America/Chicago:20270418T120000
DTSTAMP:20260422T051031
CREATED:20260414T152437Z
LAST-MODIFIED:20260414T152443Z
UID:10000979-1808046000-1808049600@stmatthewskenosha.net
SUMMARY:Holy Eucharist (Late Service)
DESCRIPTION:Traditional Sunday worship service with Holy Eucharist\, music & sermon
URL:https://stmatthewskenosha.net/event/holy-eucharist-late-service/2027-04-18/
LOCATION:St. Matthew’s Episcopal Church\, 5900 7th Ave\, Kenosha\, WI\, 53140\, United States
END:VEVENT
END:VCALENDAR