BEGIN:VCALENDAR
VERSION:2.0
PRODID:-//St. Mathew&#039;s Episcopal Church - ECPv6.15.20//NONSGML v1.0//EN
CALSCALE:GREGORIAN
METHOD:PUBLISH
X-ORIGINAL-URL:https://stmatthewskenosha.net
X-WR-CALDESC:Events for St. Mathew&#039;s Episcopal Church
REFRESH-INTERVAL;VALUE=DURATION:PT1H
X-Robots-Tag:noindex
X-PUBLISHED-TTL:PT1H
BEGIN:VTIMEZONE
TZID:America/Chicago
BEGIN:DAYLIGHT
TZOFFSETFROM:-0600
TZOFFSETTO:-0500
TZNAME:CDT
DTSTART:20250309T080000
END:DAYLIGHT
BEGIN:STANDARD
TZOFFSETFROM:-0500
TZOFFSETTO:-0600
TZNAME:CST
DTSTART:20251102T070000
END:STANDARD
BEGIN:DAYLIGHT
TZOFFSETFROM:-0600
TZOFFSETTO:-0500
TZNAME:CDT
DTSTART:20260308T080000
END:DAYLIGHT
BEGIN:STANDARD
TZOFFSETFROM:-0500
TZOFFSETTO:-0600
TZNAME:CST
DTSTART:20261101T070000
END:STANDARD
BEGIN:DAYLIGHT
TZOFFSETFROM:-0600
TZOFFSETTO:-0500
TZNAME:CDT
DTSTART:20270314T080000
END:DAYLIGHT
BEGIN:STANDARD
TZOFFSETFROM:-0500
TZOFFSETTO:-0600
TZNAME:CST
DTSTART:20271107T070000
END:STANDARD
END:VTIMEZONE
BEGIN:VEVENT
DTSTART;TZID=America/Chicago:20260906T073000
DTEND;TZID=America/Chicago:20260906T083000
DTSTAMP:20260420T044411
CREATED:20260414T152122Z
LAST-MODIFIED:20260414T152126Z
UID:10000689-1788679800-1788683400@stmatthewskenosha.net
SUMMARY:Holy Eucharist (Early Service)
DESCRIPTION:Traditional Sunday worship service with Holy Eucharist & sermon
URL:https://stmatthewskenosha.net/event/holy-eucharist-early-service/2026-09-06/
LOCATION:St. Matthew’s Episcopal Church\, 5900 7th Ave\, Kenosha\, WI\, 53140\, United States
END:VEVENT
BEGIN:VEVENT
DTSTART;TZID=America/Chicago:20260906T110000
DTEND;TZID=America/Chicago:20260906T120000
DTSTAMP:20260420T044411
CREATED:20260414T152437Z
LAST-MODIFIED:20260414T152443Z
UID:10000947-1788692400-1788696000@stmatthewskenosha.net
SUMMARY:Holy Eucharist (Late Service)
DESCRIPTION:Traditional Sunday worship service with Holy Eucharist\, music & sermon
URL:https://stmatthewskenosha.net/event/holy-eucharist-late-service/2026-09-06/
LOCATION:St. Matthew’s Episcopal Church\, 5900 7th Ave\, Kenosha\, WI\, 53140\, United States
END:VEVENT
BEGIN:VEVENT
DTSTART;TZID=America/Chicago:20260913T073000
DTEND;TZID=America/Chicago:20260913T083000
DTSTAMP:20260420T044411
CREATED:20260414T152122Z
LAST-MODIFIED:20260414T152126Z
UID:10000690-1789284600-1789288200@stmatthewskenosha.net
SUMMARY:Holy Eucharist (Early Service)
DESCRIPTION:Traditional Sunday worship service with Holy Eucharist & sermon
URL:https://stmatthewskenosha.net/event/holy-eucharist-early-service/2026-09-13/
LOCATION:St. Matthew’s Episcopal Church\, 5900 7th Ave\, Kenosha\, WI\, 53140\, United States
END:VEVENT
BEGIN:VEVENT
DTSTART;TZID=America/Chicago:20260913T110000
DTEND;TZID=America/Chicago:20260913T120000
DTSTAMP:20260420T044411
CREATED:20260414T152437Z
LAST-MODIFIED:20260414T152443Z
UID:10000948-1789297200-1789300800@stmatthewskenosha.net
SUMMARY:Holy Eucharist (Late Service)
DESCRIPTION:Traditional Sunday worship service with Holy Eucharist\, music & sermon
URL:https://stmatthewskenosha.net/event/holy-eucharist-late-service/2026-09-13/
LOCATION:St. Matthew’s Episcopal Church\, 5900 7th Ave\, Kenosha\, WI\, 53140\, United States
END:VEVENT
BEGIN:VEVENT
DTSTART;TZID=America/Chicago:20260920T073000
DTEND;TZID=America/Chicago:20260920T083000
DTSTAMP:20260420T044411
CREATED:20260414T152122Z
LAST-MODIFIED:20260414T152126Z
UID:10000691-1789889400-1789893000@stmatthewskenosha.net
SUMMARY:Holy Eucharist (Early Service)
DESCRIPTION:Traditional Sunday worship service with Holy Eucharist & sermon
URL:https://stmatthewskenosha.net/event/holy-eucharist-early-service/2026-09-20/
LOCATION:St. Matthew’s Episcopal Church\, 5900 7th Ave\, Kenosha\, WI\, 53140\, United States
END:VEVENT
BEGIN:VEVENT
DTSTART;TZID=America/Chicago:20260920T110000
DTEND;TZID=America/Chicago:20260920T120000
DTSTAMP:20260420T044411
CREATED:20260414T152437Z
LAST-MODIFIED:20260414T152443Z
UID:10000949-1789902000-1789905600@stmatthewskenosha.net
SUMMARY:Holy Eucharist (Late Service)
DESCRIPTION:Traditional Sunday worship service with Holy Eucharist\, music & sermon
URL:https://stmatthewskenosha.net/event/holy-eucharist-late-service/2026-09-20/
LOCATION:St. Matthew’s Episcopal Church\, 5900 7th Ave\, Kenosha\, WI\, 53140\, United States
END:VEVENT
BEGIN:VEVENT
DTSTART;TZID=America/Chicago:20260927T073000
DTEND;TZID=America/Chicago:20260927T083000
DTSTAMP:20260420T044411
CREATED:20260414T152122Z
LAST-MODIFIED:20260414T152126Z
UID:10000692-1790494200-1790497800@stmatthewskenosha.net
SUMMARY:Holy Eucharist (Early Service)
DESCRIPTION:Traditional Sunday worship service with Holy Eucharist & sermon
URL:https://stmatthewskenosha.net/event/holy-eucharist-early-service/2026-09-27/
LOCATION:St. Matthew’s Episcopal Church\, 5900 7th Ave\, Kenosha\, WI\, 53140\, United States
END:VEVENT
BEGIN:VEVENT
DTSTART;TZID=America/Chicago:20260927T110000
DTEND;TZID=America/Chicago:20260927T120000
DTSTAMP:20260420T044411
CREATED:20260414T152437Z
LAST-MODIFIED:20260414T152443Z
UID:10000950-1790506800-1790510400@stmatthewskenosha.net
SUMMARY:Holy Eucharist (Late Service)
DESCRIPTION:Traditional Sunday worship service with Holy Eucharist\, music & sermon
URL:https://stmatthewskenosha.net/event/holy-eucharist-late-service/2026-09-27/
LOCATION:St. Matthew’s Episcopal Church\, 5900 7th Ave\, Kenosha\, WI\, 53140\, United States
END:VEVENT
BEGIN:VEVENT
DTSTART;TZID=America/Chicago:20261004T073000
DTEND;TZID=America/Chicago:20261004T083000
DTSTAMP:20260420T044411
CREATED:20260414T152122Z
LAST-MODIFIED:20260414T152126Z
UID:10000693-1791099000-1791102600@stmatthewskenosha.net
SUMMARY:Holy Eucharist (Early Service)
DESCRIPTION:Traditional Sunday worship service with Holy Eucharist & sermon
URL:https://stmatthewskenosha.net/event/holy-eucharist-early-service/2026-10-04/
LOCATION:St. Matthew’s Episcopal Church\, 5900 7th Ave\, Kenosha\, WI\, 53140\, United States
END:VEVENT
BEGIN:VEVENT
DTSTART;TZID=America/Chicago:20261004T110000
DTEND;TZID=America/Chicago:20261004T120000
DTSTAMP:20260420T044411
CREATED:20260414T152437Z
LAST-MODIFIED:20260414T152443Z
UID:10000951-1791111600-1791115200@stmatthewskenosha.net
SUMMARY:Holy Eucharist (Late Service)
DESCRIPTION:Traditional Sunday worship service with Holy Eucharist\, music & sermon
URL:https://stmatthewskenosha.net/event/holy-eucharist-late-service/2026-10-04/
LOCATION:St. Matthew’s Episcopal Church\, 5900 7th Ave\, Kenosha\, WI\, 53140\, United States
END:VEVENT
BEGIN:VEVENT
DTSTART;TZID=America/Chicago:20261011T073000
DTEND;TZID=America/Chicago:20261011T083000
DTSTAMP:20260420T044411
CREATED:20260414T152122Z
LAST-MODIFIED:20260414T152126Z
UID:10000694-1791703800-1791707400@stmatthewskenosha.net
SUMMARY:Holy Eucharist (Early Service)
DESCRIPTION:Traditional Sunday worship service with Holy Eucharist & sermon
URL:https://stmatthewskenosha.net/event/holy-eucharist-early-service/2026-10-11/
LOCATION:St. Matthew’s Episcopal Church\, 5900 7th Ave\, Kenosha\, WI\, 53140\, United States
END:VEVENT
BEGIN:VEVENT
DTSTART;TZID=America/Chicago:20261011T110000
DTEND;TZID=America/Chicago:20261011T120000
DTSTAMP:20260420T044411
CREATED:20260414T152437Z
LAST-MODIFIED:20260414T152443Z
UID:10000952-1791716400-1791720000@stmatthewskenosha.net
SUMMARY:Holy Eucharist (Late Service)
DESCRIPTION:Traditional Sunday worship service with Holy Eucharist\, music & sermon
URL:https://stmatthewskenosha.net/event/holy-eucharist-late-service/2026-10-11/
LOCATION:St. Matthew’s Episcopal Church\, 5900 7th Ave\, Kenosha\, WI\, 53140\, United States
END:VEVENT
BEGIN:VEVENT
DTSTART;TZID=America/Chicago:20261018T073000
DTEND;TZID=America/Chicago:20261018T083000
DTSTAMP:20260420T044411
CREATED:20260414T152122Z
LAST-MODIFIED:20260414T152126Z
UID:10000695-1792308600-1792312200@stmatthewskenosha.net
SUMMARY:Holy Eucharist (Early Service)
DESCRIPTION:Traditional Sunday worship service with Holy Eucharist & sermon
URL:https://stmatthewskenosha.net/event/holy-eucharist-early-service/2026-10-18/
LOCATION:St. Matthew’s Episcopal Church\, 5900 7th Ave\, Kenosha\, WI\, 53140\, United States
END:VEVENT
BEGIN:VEVENT
DTSTART;TZID=America/Chicago:20261018T110000
DTEND;TZID=America/Chicago:20261018T120000
DTSTAMP:20260420T044411
CREATED:20260414T152437Z
LAST-MODIFIED:20260414T152443Z
UID:10000953-1792321200-1792324800@stmatthewskenosha.net
SUMMARY:Holy Eucharist (Late Service)
DESCRIPTION:Traditional Sunday worship service with Holy Eucharist\, music & sermon
URL:https://stmatthewskenosha.net/event/holy-eucharist-late-service/2026-10-18/
LOCATION:St. Matthew’s Episcopal Church\, 5900 7th Ave\, Kenosha\, WI\, 53140\, United States
END:VEVENT
BEGIN:VEVENT
DTSTART;TZID=America/Chicago:20261025T073000
DTEND;TZID=America/Chicago:20261025T083000
DTSTAMP:20260420T044411
CREATED:20260414T152122Z
LAST-MODIFIED:20260414T152126Z
UID:10000696-1792913400-1792917000@stmatthewskenosha.net
SUMMARY:Holy Eucharist (Early Service)
DESCRIPTION:Traditional Sunday worship service with Holy Eucharist & sermon
URL:https://stmatthewskenosha.net/event/holy-eucharist-early-service/2026-10-25/
LOCATION:St. Matthew’s Episcopal Church\, 5900 7th Ave\, Kenosha\, WI\, 53140\, United States
END:VEVENT
BEGIN:VEVENT
DTSTART;TZID=America/Chicago:20261025T110000
DTEND;TZID=America/Chicago:20261025T120000
DTSTAMP:20260420T044411
CREATED:20260414T152437Z
LAST-MODIFIED:20260414T152443Z
UID:10000954-1792926000-1792929600@stmatthewskenosha.net
SUMMARY:Holy Eucharist (Late Service)
DESCRIPTION:Traditional Sunday worship service with Holy Eucharist\, music & sermon
URL:https://stmatthewskenosha.net/event/holy-eucharist-late-service/2026-10-25/
LOCATION:St. Matthew’s Episcopal Church\, 5900 7th Ave\, Kenosha\, WI\, 53140\, United States
END:VEVENT
BEGIN:VEVENT
DTSTART;TZID=America/Chicago:20261101T073000
DTEND;TZID=America/Chicago:20261101T083000
DTSTAMP:20260420T044411
CREATED:20260414T152122Z
LAST-MODIFIED:20260414T152126Z
UID:10000697-1793518200-1793521800@stmatthewskenosha.net
SUMMARY:Holy Eucharist (Early Service)
DESCRIPTION:Traditional Sunday worship service with Holy Eucharist & sermon
URL:https://stmatthewskenosha.net/event/holy-eucharist-early-service/2026-11-01/
LOCATION:St. Matthew’s Episcopal Church\, 5900 7th Ave\, Kenosha\, WI\, 53140\, United States
END:VEVENT
BEGIN:VEVENT
DTSTART;TZID=America/Chicago:20261101T110000
DTEND;TZID=America/Chicago:20261101T120000
DTSTAMP:20260420T044411
CREATED:20260414T152437Z
LAST-MODIFIED:20260414T152443Z
UID:10000955-1793530800-1793534400@stmatthewskenosha.net
SUMMARY:Holy Eucharist (Late Service)
DESCRIPTION:Traditional Sunday worship service with Holy Eucharist\, music & sermon
URL:https://stmatthewskenosha.net/event/holy-eucharist-late-service/2026-11-01/
LOCATION:St. Matthew’s Episcopal Church\, 5900 7th Ave\, Kenosha\, WI\, 53140\, United States
END:VEVENT
BEGIN:VEVENT
DTSTART;TZID=America/Chicago:20261108T073000
DTEND;TZID=America/Chicago:20261108T083000
DTSTAMP:20260420T044411
CREATED:20260414T152122Z
LAST-MODIFIED:20260414T152126Z
UID:10000698-1794123000-1794126600@stmatthewskenosha.net
SUMMARY:Holy Eucharist (Early Service)
DESCRIPTION:Traditional Sunday worship service with Holy Eucharist & sermon
URL:https://stmatthewskenosha.net/event/holy-eucharist-early-service/2026-11-08/
LOCATION:St. Matthew’s Episcopal Church\, 5900 7th Ave\, Kenosha\, WI\, 53140\, United States
END:VEVENT
BEGIN:VEVENT
DTSTART;TZID=America/Chicago:20261108T110000
DTEND;TZID=America/Chicago:20261108T120000
DTSTAMP:20260420T044411
CREATED:20260414T152437Z
LAST-MODIFIED:20260414T152443Z
UID:10000956-1794135600-1794139200@stmatthewskenosha.net
SUMMARY:Holy Eucharist (Late Service)
DESCRIPTION:Traditional Sunday worship service with Holy Eucharist\, music & sermon
URL:https://stmatthewskenosha.net/event/holy-eucharist-late-service/2026-11-08/
LOCATION:St. Matthew’s Episcopal Church\, 5900 7th Ave\, Kenosha\, WI\, 53140\, United States
END:VEVENT
BEGIN:VEVENT
DTSTART;TZID=America/Chicago:20261115T073000
DTEND;TZID=America/Chicago:20261115T083000
DTSTAMP:20260420T044411
CREATED:20260414T152122Z
LAST-MODIFIED:20260414T152126Z
UID:10000699-1794727800-1794731400@stmatthewskenosha.net
SUMMARY:Holy Eucharist (Early Service)
DESCRIPTION:Traditional Sunday worship service with Holy Eucharist & sermon
URL:https://stmatthewskenosha.net/event/holy-eucharist-early-service/2026-11-15/
LOCATION:St. Matthew’s Episcopal Church\, 5900 7th Ave\, Kenosha\, WI\, 53140\, United States
END:VEVENT
BEGIN:VEVENT
DTSTART;TZID=America/Chicago:20261115T110000
DTEND;TZID=America/Chicago:20261115T120000
DTSTAMP:20260420T044411
CREATED:20260414T152437Z
LAST-MODIFIED:20260414T152443Z
UID:10000957-1794740400-1794744000@stmatthewskenosha.net
SUMMARY:Holy Eucharist (Late Service)
DESCRIPTION:Traditional Sunday worship service with Holy Eucharist\, music & sermon
URL:https://stmatthewskenosha.net/event/holy-eucharist-late-service/2026-11-15/
LOCATION:St. Matthew’s Episcopal Church\, 5900 7th Ave\, Kenosha\, WI\, 53140\, United States
END:VEVENT
BEGIN:VEVENT
DTSTART;TZID=America/Chicago:20261122T073000
DTEND;TZID=America/Chicago:20261122T083000
DTSTAMP:20260420T044411
CREATED:20260414T152122Z
LAST-MODIFIED:20260414T152126Z
UID:10000700-1795332600-1795336200@stmatthewskenosha.net
SUMMARY:Holy Eucharist (Early Service)
DESCRIPTION:Traditional Sunday worship service with Holy Eucharist & sermon
URL:https://stmatthewskenosha.net/event/holy-eucharist-early-service/2026-11-22/
LOCATION:St. Matthew’s Episcopal Church\, 5900 7th Ave\, Kenosha\, WI\, 53140\, United States
END:VEVENT
BEGIN:VEVENT
DTSTART;TZID=America/Chicago:20261122T110000
DTEND;TZID=America/Chicago:20261122T120000
DTSTAMP:20260420T044411
CREATED:20260414T152437Z
LAST-MODIFIED:20260414T152443Z
UID:10000958-1795345200-1795348800@stmatthewskenosha.net
SUMMARY:Holy Eucharist (Late Service)
DESCRIPTION:Traditional Sunday worship service with Holy Eucharist\, music & sermon
URL:https://stmatthewskenosha.net/event/holy-eucharist-late-service/2026-11-22/
LOCATION:St. Matthew’s Episcopal Church\, 5900 7th Ave\, Kenosha\, WI\, 53140\, United States
END:VEVENT
BEGIN:VEVENT
DTSTART;TZID=America/Chicago:20261129T073000
DTEND;TZID=America/Chicago:20261129T083000
DTSTAMP:20260420T044411
CREATED:20260414T152122Z
LAST-MODIFIED:20260414T152126Z
UID:10000701-1795937400-1795941000@stmatthewskenosha.net
SUMMARY:Holy Eucharist (Early Service)
DESCRIPTION:Traditional Sunday worship service with Holy Eucharist & sermon
URL:https://stmatthewskenosha.net/event/holy-eucharist-early-service/2026-11-29/
LOCATION:St. Matthew’s Episcopal Church\, 5900 7th Ave\, Kenosha\, WI\, 53140\, United States
END:VEVENT
BEGIN:VEVENT
DTSTART;TZID=America/Chicago:20261129T110000
DTEND;TZID=America/Chicago:20261129T120000
DTSTAMP:20260420T044411
CREATED:20260414T152437Z
LAST-MODIFIED:20260414T152443Z
UID:10000959-1795950000-1795953600@stmatthewskenosha.net
SUMMARY:Holy Eucharist (Late Service)
DESCRIPTION:Traditional Sunday worship service with Holy Eucharist\, music & sermon
URL:https://stmatthewskenosha.net/event/holy-eucharist-late-service/2026-11-29/
LOCATION:St. Matthew’s Episcopal Church\, 5900 7th Ave\, Kenosha\, WI\, 53140\, United States
END:VEVENT
BEGIN:VEVENT
DTSTART;TZID=America/Chicago:20261206T073000
DTEND;TZID=America/Chicago:20261206T083000
DTSTAMP:20260420T044411
CREATED:20260414T152122Z
LAST-MODIFIED:20260414T152126Z
UID:10000702-1796542200-1796545800@stmatthewskenosha.net
SUMMARY:Holy Eucharist (Early Service)
DESCRIPTION:Traditional Sunday worship service with Holy Eucharist & sermon
URL:https://stmatthewskenosha.net/event/holy-eucharist-early-service/2026-12-06/
LOCATION:St. Matthew’s Episcopal Church\, 5900 7th Ave\, Kenosha\, WI\, 53140\, United States
END:VEVENT
BEGIN:VEVENT
DTSTART;TZID=America/Chicago:20261206T110000
DTEND;TZID=America/Chicago:20261206T120000
DTSTAMP:20260420T044411
CREATED:20260414T152437Z
LAST-MODIFIED:20260414T152443Z
UID:10000960-1796554800-1796558400@stmatthewskenosha.net
SUMMARY:Holy Eucharist (Late Service)
DESCRIPTION:Traditional Sunday worship service with Holy Eucharist\, music & sermon
URL:https://stmatthewskenosha.net/event/holy-eucharist-late-service/2026-12-06/
LOCATION:St. Matthew’s Episcopal Church\, 5900 7th Ave\, Kenosha\, WI\, 53140\, United States
END:VEVENT
BEGIN:VEVENT
DTSTART;TZID=America/Chicago:20261213T073000
DTEND;TZID=America/Chicago:20261213T083000
DTSTAMP:20260420T044411
CREATED:20260414T152122Z
LAST-MODIFIED:20260414T152126Z
UID:10000703-1797147000-1797150600@stmatthewskenosha.net
SUMMARY:Holy Eucharist (Early Service)
DESCRIPTION:Traditional Sunday worship service with Holy Eucharist & sermon
URL:https://stmatthewskenosha.net/event/holy-eucharist-early-service/2026-12-13/
LOCATION:St. Matthew’s Episcopal Church\, 5900 7th Ave\, Kenosha\, WI\, 53140\, United States
END:VEVENT
BEGIN:VEVENT
DTSTART;TZID=America/Chicago:20261213T110000
DTEND;TZID=America/Chicago:20261213T120000
DTSTAMP:20260420T044411
CREATED:20260414T152437Z
LAST-MODIFIED:20260414T152443Z
UID:10000961-1797159600-1797163200@stmatthewskenosha.net
SUMMARY:Holy Eucharist (Late Service)
DESCRIPTION:Traditional Sunday worship service with Holy Eucharist\, music & sermon
URL:https://stmatthewskenosha.net/event/holy-eucharist-late-service/2026-12-13/
LOCATION:St. Matthew’s Episcopal Church\, 5900 7th Ave\, Kenosha\, WI\, 53140\, United States
END:VEVENT
END:VCALENDAR