BEGIN:VCALENDAR
VERSION:2.0
PRODID:-//St. Mathew&#039;s Episcopal Church - ECPv6.15.20//NONSGML v1.0//EN
CALSCALE:GREGORIAN
METHOD:PUBLISH
X-WR-CALNAME:St. Mathew&#039;s Episcopal Church
X-ORIGINAL-URL:https://stmatthewskenosha.net
X-WR-CALDESC:Events for St. Mathew&#039;s Episcopal Church
REFRESH-INTERVAL;VALUE=DURATION:PT1H
X-Robots-Tag:noindex
X-PUBLISHED-TTL:PT1H
BEGIN:VTIMEZONE
TZID:America/Chicago
BEGIN:DAYLIGHT
TZOFFSETFROM:-0600
TZOFFSETTO:-0500
TZNAME:CDT
DTSTART:20290311T080000
END:DAYLIGHT
BEGIN:STANDARD
TZOFFSETFROM:-0500
TZOFFSETTO:-0600
TZNAME:CST
DTSTART:20291104T070000
END:STANDARD
BEGIN:DAYLIGHT
TZOFFSETFROM:-0600
TZOFFSETTO:-0500
TZNAME:CDT
DTSTART:20300310T080000
END:DAYLIGHT
BEGIN:STANDARD
TZOFFSETFROM:-0500
TZOFFSETTO:-0600
TZNAME:CST
DTSTART:20301103T070000
END:STANDARD
BEGIN:DAYLIGHT
TZOFFSETFROM:-0600
TZOFFSETTO:-0500
TZNAME:CDT
DTSTART:20310309T080000
END:DAYLIGHT
BEGIN:STANDARD
TZOFFSETFROM:-0500
TZOFFSETTO:-0600
TZNAME:CST
DTSTART:20311102T070000
END:STANDARD
BEGIN:DAYLIGHT
TZOFFSETFROM:-0600
TZOFFSETTO:-0500
TZNAME:CDT
DTSTART:20320314T080000
END:DAYLIGHT
BEGIN:STANDARD
TZOFFSETFROM:-0500
TZOFFSETTO:-0600
TZNAME:CST
DTSTART:20321107T070000
END:STANDARD
END:VTIMEZONE
BEGIN:VEVENT
DTSTART;TZID=America/Chicago:20300511T100000
DTEND;TZID=America/Chicago:20300511T110000
DTSTAMP:20260420T063036
CREATED:20260414T153237Z
LAST-MODIFIED:20260414T153242Z
UID:10001236-1904724000-1904727600@stmatthewskenosha.net
SUMMARY:Sips & Scripture
DESCRIPTION:Sip & Scripture is a NEW faith and fellowship group for the women of St. Matthew’s. We will have new topics to discuss monthly with open discussion. \n\n\n\nWe are reading “Women of the BIble” by Ann Spangler (Author)\, Jean E. Syswerda (Author)
URL:https://stmatthewskenosha.net/event/sips-scripture-2/2030-05-11/
LOCATION:Marina Gardens\, 5001 7th Ave\, Kenosha\, Wisconsin\, 53140\, United States
CATEGORIES:Outreach
ATTACH;FMTTYPE=image/png:https://stmatthewskenosha.net/wp-content/uploads/2026/03/Screenshot-2026-01-08-at-11.15.42-AM.png
END:VEVENT
BEGIN:VEVENT
DTSTART;TZID=America/Chicago:20300608T100000
DTEND;TZID=America/Chicago:20300608T110000
DTSTAMP:20260420T063036
CREATED:20260414T153237Z
LAST-MODIFIED:20260414T153242Z
UID:10001237-1907143200-1907146800@stmatthewskenosha.net
SUMMARY:Sips & Scripture
DESCRIPTION:Sip & Scripture is a NEW faith and fellowship group for the women of St. Matthew’s. We will have new topics to discuss monthly with open discussion. \n\n\n\nWe are reading “Women of the BIble” by Ann Spangler (Author)\, Jean E. Syswerda (Author)
URL:https://stmatthewskenosha.net/event/sips-scripture-2/2030-06-08/
LOCATION:Marina Gardens\, 5001 7th Ave\, Kenosha\, Wisconsin\, 53140\, United States
CATEGORIES:Outreach
ATTACH;FMTTYPE=image/png:https://stmatthewskenosha.net/wp-content/uploads/2026/03/Screenshot-2026-01-08-at-11.15.42-AM.png
END:VEVENT
BEGIN:VEVENT
DTSTART;TZID=America/Chicago:20300713T100000
DTEND;TZID=America/Chicago:20300713T110000
DTSTAMP:20260420T063036
CREATED:20260414T153237Z
LAST-MODIFIED:20260414T153242Z
UID:10001238-1910167200-1910170800@stmatthewskenosha.net
SUMMARY:Sips & Scripture
DESCRIPTION:Sip & Scripture is a NEW faith and fellowship group for the women of St. Matthew’s. We will have new topics to discuss monthly with open discussion. \n\n\n\nWe are reading “Women of the BIble” by Ann Spangler (Author)\, Jean E. Syswerda (Author)
URL:https://stmatthewskenosha.net/event/sips-scripture-2/2030-07-13/
LOCATION:Marina Gardens\, 5001 7th Ave\, Kenosha\, Wisconsin\, 53140\, United States
CATEGORIES:Outreach
ATTACH;FMTTYPE=image/png:https://stmatthewskenosha.net/wp-content/uploads/2026/03/Screenshot-2026-01-08-at-11.15.42-AM.png
END:VEVENT
BEGIN:VEVENT
DTSTART;TZID=America/Chicago:20300810T100000
DTEND;TZID=America/Chicago:20300810T110000
DTSTAMP:20260420T063036
CREATED:20260414T153237Z
LAST-MODIFIED:20260414T153242Z
UID:10001239-1912586400-1912590000@stmatthewskenosha.net
SUMMARY:Sips & Scripture
DESCRIPTION:Sip & Scripture is a NEW faith and fellowship group for the women of St. Matthew’s. We will have new topics to discuss monthly with open discussion. \n\n\n\nWe are reading “Women of the BIble” by Ann Spangler (Author)\, Jean E. Syswerda (Author)
URL:https://stmatthewskenosha.net/event/sips-scripture-2/2030-08-10/
LOCATION:Marina Gardens\, 5001 7th Ave\, Kenosha\, Wisconsin\, 53140\, United States
CATEGORIES:Outreach
ATTACH;FMTTYPE=image/png:https://stmatthewskenosha.net/wp-content/uploads/2026/03/Screenshot-2026-01-08-at-11.15.42-AM.png
END:VEVENT
BEGIN:VEVENT
DTSTART;TZID=America/Chicago:20300914T100000
DTEND;TZID=America/Chicago:20300914T110000
DTSTAMP:20260420T063036
CREATED:20260414T153237Z
LAST-MODIFIED:20260414T153242Z
UID:10001240-1915610400-1915614000@stmatthewskenosha.net
SUMMARY:Sips & Scripture
DESCRIPTION:Sip & Scripture is a NEW faith and fellowship group for the women of St. Matthew’s. We will have new topics to discuss monthly with open discussion. \n\n\n\nWe are reading “Women of the BIble” by Ann Spangler (Author)\, Jean E. Syswerda (Author)
URL:https://stmatthewskenosha.net/event/sips-scripture-2/2030-09-14/
LOCATION:Marina Gardens\, 5001 7th Ave\, Kenosha\, Wisconsin\, 53140\, United States
CATEGORIES:Outreach
ATTACH;FMTTYPE=image/png:https://stmatthewskenosha.net/wp-content/uploads/2026/03/Screenshot-2026-01-08-at-11.15.42-AM.png
END:VEVENT
BEGIN:VEVENT
DTSTART;TZID=America/Chicago:20301012T100000
DTEND;TZID=America/Chicago:20301012T110000
DTSTAMP:20260420T063036
CREATED:20260414T153237Z
LAST-MODIFIED:20260414T153242Z
UID:10001241-1918029600-1918033200@stmatthewskenosha.net
SUMMARY:Sips & Scripture
DESCRIPTION:Sip & Scripture is a NEW faith and fellowship group for the women of St. Matthew’s. We will have new topics to discuss monthly with open discussion. \n\n\n\nWe are reading “Women of the BIble” by Ann Spangler (Author)\, Jean E. Syswerda (Author)
URL:https://stmatthewskenosha.net/event/sips-scripture-2/2030-10-12/
LOCATION:Marina Gardens\, 5001 7th Ave\, Kenosha\, Wisconsin\, 53140\, United States
CATEGORIES:Outreach
ATTACH;FMTTYPE=image/png:https://stmatthewskenosha.net/wp-content/uploads/2026/03/Screenshot-2026-01-08-at-11.15.42-AM.png
END:VEVENT
BEGIN:VEVENT
DTSTART;TZID=America/Chicago:20301109T100000
DTEND;TZID=America/Chicago:20301109T110000
DTSTAMP:20260420T063036
CREATED:20260414T153237Z
LAST-MODIFIED:20260414T153242Z
UID:10001242-1920448800-1920452400@stmatthewskenosha.net
SUMMARY:Sips & Scripture
DESCRIPTION:Sip & Scripture is a NEW faith and fellowship group for the women of St. Matthew’s. We will have new topics to discuss monthly with open discussion. \n\n\n\nWe are reading “Women of the BIble” by Ann Spangler (Author)\, Jean E. Syswerda (Author)
URL:https://stmatthewskenosha.net/event/sips-scripture-2/2030-11-09/
LOCATION:Marina Gardens\, 5001 7th Ave\, Kenosha\, Wisconsin\, 53140\, United States
CATEGORIES:Outreach
ATTACH;FMTTYPE=image/png:https://stmatthewskenosha.net/wp-content/uploads/2026/03/Screenshot-2026-01-08-at-11.15.42-AM.png
END:VEVENT
BEGIN:VEVENT
DTSTART;TZID=America/Chicago:20301214T100000
DTEND;TZID=America/Chicago:20301214T110000
DTSTAMP:20260420T063036
CREATED:20260414T153237Z
LAST-MODIFIED:20260414T153242Z
UID:10001243-1923472800-1923476400@stmatthewskenosha.net
SUMMARY:Sips & Scripture
DESCRIPTION:Sip & Scripture is a NEW faith and fellowship group for the women of St. Matthew’s. We will have new topics to discuss monthly with open discussion. \n\n\n\nWe are reading “Women of the BIble” by Ann Spangler (Author)\, Jean E. Syswerda (Author)
URL:https://stmatthewskenosha.net/event/sips-scripture-2/2030-12-14/
LOCATION:Marina Gardens\, 5001 7th Ave\, Kenosha\, Wisconsin\, 53140\, United States
CATEGORIES:Outreach
ATTACH;FMTTYPE=image/png:https://stmatthewskenosha.net/wp-content/uploads/2026/03/Screenshot-2026-01-08-at-11.15.42-AM.png
END:VEVENT
BEGIN:VEVENT
DTSTART;TZID=America/Chicago:20310111T100000
DTEND;TZID=America/Chicago:20310111T110000
DTSTAMP:20260420T063036
CREATED:20260414T153237Z
LAST-MODIFIED:20260414T153242Z
UID:10001244-1925892000-1925895600@stmatthewskenosha.net
SUMMARY:Sips & Scripture
DESCRIPTION:Sip & Scripture is a NEW faith and fellowship group for the women of St. Matthew’s. We will have new topics to discuss monthly with open discussion. \n\n\n\nWe are reading “Women of the BIble” by Ann Spangler (Author)\, Jean E. Syswerda (Author)
URL:https://stmatthewskenosha.net/event/sips-scripture-2/2031-01-11/
LOCATION:Marina Gardens\, 5001 7th Ave\, Kenosha\, Wisconsin\, 53140\, United States
CATEGORIES:Outreach
ATTACH;FMTTYPE=image/png:https://stmatthewskenosha.net/wp-content/uploads/2026/03/Screenshot-2026-01-08-at-11.15.42-AM.png
END:VEVENT
BEGIN:VEVENT
DTSTART;TZID=America/Chicago:20310208T100000
DTEND;TZID=America/Chicago:20310208T110000
DTSTAMP:20260420T063036
CREATED:20260414T153237Z
LAST-MODIFIED:20260414T153242Z
UID:10001245-1928311200-1928314800@stmatthewskenosha.net
SUMMARY:Sips & Scripture
DESCRIPTION:Sip & Scripture is a NEW faith and fellowship group for the women of St. Matthew’s. We will have new topics to discuss monthly with open discussion. \n\n\n\nWe are reading “Women of the BIble” by Ann Spangler (Author)\, Jean E. Syswerda (Author)
URL:https://stmatthewskenosha.net/event/sips-scripture-2/2031-02-08/
LOCATION:Marina Gardens\, 5001 7th Ave\, Kenosha\, Wisconsin\, 53140\, United States
CATEGORIES:Outreach
ATTACH;FMTTYPE=image/png:https://stmatthewskenosha.net/wp-content/uploads/2026/03/Screenshot-2026-01-08-at-11.15.42-AM.png
END:VEVENT
BEGIN:VEVENT
DTSTART;TZID=America/Chicago:20310308T100000
DTEND;TZID=America/Chicago:20310308T110000
DTSTAMP:20260420T063036
CREATED:20260414T153237Z
LAST-MODIFIED:20260414T153242Z
UID:10001246-1930730400-1930734000@stmatthewskenosha.net
SUMMARY:Sips & Scripture
DESCRIPTION:Sip & Scripture is a NEW faith and fellowship group for the women of St. Matthew’s. We will have new topics to discuss monthly with open discussion. \n\n\n\nWe are reading “Women of the BIble” by Ann Spangler (Author)\, Jean E. Syswerda (Author)
URL:https://stmatthewskenosha.net/event/sips-scripture-2/2031-03-08/
LOCATION:Marina Gardens\, 5001 7th Ave\, Kenosha\, Wisconsin\, 53140\, United States
CATEGORIES:Outreach
ATTACH;FMTTYPE=image/png:https://stmatthewskenosha.net/wp-content/uploads/2026/03/Screenshot-2026-01-08-at-11.15.42-AM.png
END:VEVENT
BEGIN:VEVENT
DTSTART;TZID=America/Chicago:20310412T100000
DTEND;TZID=America/Chicago:20310412T110000
DTSTAMP:20260420T063036
CREATED:20260414T153237Z
LAST-MODIFIED:20260414T153242Z
UID:10001247-1933754400-1933758000@stmatthewskenosha.net
SUMMARY:Sips & Scripture
DESCRIPTION:Sip & Scripture is a NEW faith and fellowship group for the women of St. Matthew’s. We will have new topics to discuss monthly with open discussion. \n\n\n\nWe are reading “Women of the BIble” by Ann Spangler (Author)\, Jean E. Syswerda (Author)
URL:https://stmatthewskenosha.net/event/sips-scripture-2/2031-04-12/
LOCATION:Marina Gardens\, 5001 7th Ave\, Kenosha\, Wisconsin\, 53140\, United States
CATEGORIES:Outreach
ATTACH;FMTTYPE=image/png:https://stmatthewskenosha.net/wp-content/uploads/2026/03/Screenshot-2026-01-08-at-11.15.42-AM.png
END:VEVENT
END:VCALENDAR