BEGIN:VCALENDAR
VERSION:2.0
PRODID:-//St. Mathew&#039;s Episcopal Church - ECPv6.15.20//NONSGML v1.0//EN
CALSCALE:GREGORIAN
METHOD:PUBLISH
X-WR-CALNAME:St. Mathew&#039;s Episcopal Church
X-ORIGINAL-URL:https://stmatthewskenosha.net
X-WR-CALDESC:Events for St. Mathew&#039;s Episcopal Church
REFRESH-INTERVAL;VALUE=DURATION:PT1H
X-Robots-Tag:noindex
X-PUBLISHED-TTL:PT1H
BEGIN:VTIMEZONE
TZID:America/Chicago
BEGIN:DAYLIGHT
TZOFFSETFROM:-0600
TZOFFSETTO:-0500
TZNAME:CDT
DTSTART:20230312T080000
END:DAYLIGHT
BEGIN:STANDARD
TZOFFSETFROM:-0500
TZOFFSETTO:-0600
TZNAME:CST
DTSTART:20231105T070000
END:STANDARD
BEGIN:DAYLIGHT
TZOFFSETFROM:-0600
TZOFFSETTO:-0500
TZNAME:CDT
DTSTART:20240310T080000
END:DAYLIGHT
BEGIN:STANDARD
TZOFFSETFROM:-0500
TZOFFSETTO:-0600
TZNAME:CST
DTSTART:20241103T070000
END:STANDARD
BEGIN:DAYLIGHT
TZOFFSETFROM:-0600
TZOFFSETTO:-0500
TZNAME:CDT
DTSTART:20250309T080000
END:DAYLIGHT
BEGIN:STANDARD
TZOFFSETFROM:-0500
TZOFFSETTO:-0600
TZNAME:CST
DTSTART:20251102T070000
END:STANDARD
BEGIN:DAYLIGHT
TZOFFSETFROM:-0600
TZOFFSETTO:-0500
TZNAME:CDT
DTSTART:20260308T080000
END:DAYLIGHT
BEGIN:STANDARD
TZOFFSETFROM:-0500
TZOFFSETTO:-0600
TZNAME:CST
DTSTART:20261101T070000
END:STANDARD
BEGIN:DAYLIGHT
TZOFFSETFROM:-0600
TZOFFSETTO:-0500
TZNAME:CDT
DTSTART:20270314T080000
END:DAYLIGHT
BEGIN:STANDARD
TZOFFSETFROM:-0500
TZOFFSETTO:-0600
TZNAME:CST
DTSTART:20271107T070000
END:STANDARD
END:VTIMEZONE
BEGIN:VEVENT
DTSTART;TZID=America/Chicago:20260311T183000
DTEND;TZID=America/Chicago:20260311T200000
DTSTAMP:20260422T033526
CREATED:20250323T152231Z
LAST-MODIFIED:20260310T193930Z
UID:10000031-1773253800-1773259200@stmatthewskenosha.net
SUMMARY:Lenten Soup Supper & Formation
DESCRIPTION:Lenten Reflection & Soup Supper\, Wednesdays @ 6:30pm \n\n\n\nJoin us every Wednesday at 6:30pm for our Evensong\, followed by Lenten Reflection and soup supper in Guild Hall. We will be reading “An Unlikely Lent” by Rachel Billups. Copies are available from the office. Price $20 \n\n\n\nVolunteers are needed to make soup each week. Use sign-up sheet in the church.
URL:https://stmatthewskenosha.net/event/lenten-soup-supper-spiritual-formation/
LOCATION:Great Hall (Guild Hall)\, 5900 7th Ave\, Kenosha\, WI\, 53140\, United States
ATTACH;FMTTYPE=image/png:https://stmatthewskenosha.net/wp-content/uploads/2025/03/Lenten-Soup-Supper.png
END:VEVENT
BEGIN:VEVENT
DTSTART;TZID=America/Chicago:20250424T180000
DTEND;TZID=America/Chicago:20250424T183000
DTSTAMP:20260422T033526
CREATED:20250323T153132Z
LAST-MODIFIED:20250323T155527Z
UID:10000033-1745517600-1745519400@stmatthewskenosha.net
SUMMARY:St. Benedict’s Circle
DESCRIPTION:Are you interested in being part of the parish’s new homelessness and hunger task force? Are you interested in learning how you can help the homeless and poor in your community? \n\n\n\nIf so\, please consider joining us for the St. Benedict’s Circle kick-off meeting. Due to scheduling issues\, we’re taking a poll to see the best date/time to hold our first meeting.
URL:https://stmatthewskenosha.net/event/st-benedicts-circle/
LOCATION:Great Hall (Guild Hall)\, 5900 7th Ave\, Kenosha\, WI\, 53140\, United States
END:VEVENT
BEGIN:VEVENT
DTSTART;TZID=America/Chicago:20241205T183000
DTEND;TZID=America/Chicago:20241205T193000
DTSTAMP:20260422T033526
CREATED:20241129T222829Z
LAST-MODIFIED:20241130T180008Z
UID:10000025-1733423400-1733427000@stmatthewskenosha.net
SUMMARY:Adult Formation
DESCRIPTION:Join us Thursday evenings during Advent for adult formation. The text chosen to guide our reflections this year is: What Are We Waiting For? by William H Petersen.  \n\n\n\nCopies of the book are available for $15 in the parish office or you can pick one up at any meeting.  
URL:https://stmatthewskenosha.net/event/adult-formation/
LOCATION:Great Hall (Guild Hall)\, 5900 7th Ave\, Kenosha\, WI\, 53140\, United States
END:VEVENT
END:VCALENDAR