BEGIN:VCALENDAR
VERSION:2.0
PRODID:-//St. Mathew&#039;s Episcopal Church - ECPv6.15.20//NONSGML v1.0//EN
CALSCALE:GREGORIAN
METHOD:PUBLISH
X-WR-CALNAME:St. Mathew&#039;s Episcopal Church
X-ORIGINAL-URL:https://stmatthewskenosha.net
X-WR-CALDESC:Events for St. Mathew&#039;s Episcopal Church
REFRESH-INTERVAL;VALUE=DURATION:PT1H
X-Robots-Tag:noindex
X-PUBLISHED-TTL:PT1H
BEGIN:VTIMEZONE
TZID:America/Chicago
BEGIN:DAYLIGHT
TZOFFSETFROM:-0600
TZOFFSETTO:-0500
TZNAME:CDT
DTSTART:20230312T080000
END:DAYLIGHT
BEGIN:STANDARD
TZOFFSETFROM:-0500
TZOFFSETTO:-0600
TZNAME:CST
DTSTART:20231105T070000
END:STANDARD
BEGIN:DAYLIGHT
TZOFFSETFROM:-0600
TZOFFSETTO:-0500
TZNAME:CDT
DTSTART:20240310T080000
END:DAYLIGHT
BEGIN:STANDARD
TZOFFSETFROM:-0500
TZOFFSETTO:-0600
TZNAME:CST
DTSTART:20241103T070000
END:STANDARD
BEGIN:DAYLIGHT
TZOFFSETFROM:-0600
TZOFFSETTO:-0500
TZNAME:CDT
DTSTART:20250309T080000
END:DAYLIGHT
BEGIN:STANDARD
TZOFFSETFROM:-0500
TZOFFSETTO:-0600
TZNAME:CST
DTSTART:20251102T070000
END:STANDARD
END:VTIMEZONE
BEGIN:VEVENT
DTSTART;TZID=America/Chicago:20241203T193000
DTEND;TZID=America/Chicago:20241203T203000
DTSTAMP:20260420T050245
CREATED:20241130T173904Z
LAST-MODIFIED:20241130T174032Z
UID:10000026-1733254200-1733257800@stmatthewskenosha.net
SUMMARY:Advent Lessons & Carols
DESCRIPTION:The Festival of Lessons and Carols is a service of Scripture and song that dates to the late 19th century. In this service\, we listen to nine Scripture lessons that recount the Fall\, the promise of the Messiah\, the Incarnation\, and the Great Commission to preach the Good News. Each lesson is followed by a carol or other song that reflects on the lesson’s message and a brief prayer.
URL:https://stmatthewskenosha.net/event/advent-lessons-carols/
LOCATION:St. Matthew’s Episcopal Church\, 5900 7th Ave\, Kenosha\, WI\, 53140\, United States
ATTACH;FMTTYPE=image/jpeg:https://stmatthewskenosha.net/wp-content/uploads/2023/05/lessons-carols.jpeg
END:VEVENT
BEGIN:VEVENT
DTSTART;TZID=America/Chicago:20240511T140000
DTEND;TZID=America/Chicago:20240511T150000
DTSTAMP:20260420T050245
CREATED:20240507T195500Z
LAST-MODIFIED:20240507T195503Z
UID:10000022-1715436000-1715439600@stmatthewskenosha.net
SUMMARY:Blessing of the Garden
DESCRIPTION:Join us for the annual blessing of the Eldergarten
URL:https://stmatthewskenosha.net/event/blessing-of-the-garden/
LOCATION:WI
END:VEVENT
END:VCALENDAR