BEGIN:VCALENDAR
VERSION:2.0
PRODID:-//St. Mathew&#039;s Episcopal Church - ECPv6.15.20//NONSGML v1.0//EN
CALSCALE:GREGORIAN
METHOD:PUBLISH
X-ORIGINAL-URL:https://stmatthewskenosha.net
X-WR-CALDESC:Events for St. Mathew&#039;s Episcopal Church
REFRESH-INTERVAL;VALUE=DURATION:PT1H
X-Robots-Tag:noindex
X-PUBLISHED-TTL:PT1H
BEGIN:VTIMEZONE
TZID:America/Chicago
BEGIN:DAYLIGHT
TZOFFSETFROM:-0600
TZOFFSETTO:-0500
TZNAME:CDT
DTSTART:20260308T080000
END:DAYLIGHT
BEGIN:STANDARD
TZOFFSETFROM:-0500
TZOFFSETTO:-0600
TZNAME:CST
DTSTART:20261101T070000
END:STANDARD
BEGIN:DAYLIGHT
TZOFFSETFROM:-0600
TZOFFSETTO:-0500
TZNAME:CDT
DTSTART:20270314T080000
END:DAYLIGHT
BEGIN:STANDARD
TZOFFSETFROM:-0500
TZOFFSETTO:-0600
TZNAME:CST
DTSTART:20271107T070000
END:STANDARD
BEGIN:DAYLIGHT
TZOFFSETFROM:-0600
TZOFFSETTO:-0500
TZNAME:CDT
DTSTART:20280312T080000
END:DAYLIGHT
BEGIN:STANDARD
TZOFFSETFROM:-0500
TZOFFSETTO:-0600
TZNAME:CST
DTSTART:20281105T070000
END:STANDARD
BEGIN:DAYLIGHT
TZOFFSETFROM:-0600
TZOFFSETTO:-0500
TZNAME:CDT
DTSTART:20290311T080000
END:DAYLIGHT
BEGIN:STANDARD
TZOFFSETFROM:-0500
TZOFFSETTO:-0600
TZNAME:CST
DTSTART:20291104T070000
END:STANDARD
END:VTIMEZONE
BEGIN:VEVENT
DTSTART;TZID=America/Chicago:20271226T110000
DTEND;TZID=America/Chicago:20271226T120000
DTSTAMP:20260422T170848
CREATED:20260414T152437Z
LAST-MODIFIED:20260414T152443Z
UID:10001015-1829818800-1829822400@stmatthewskenosha.net
SUMMARY:Holy Eucharist (Late Service)
DESCRIPTION:Traditional Sunday worship service with Holy Eucharist\, music & sermon
URL:https://stmatthewskenosha.net/event/holy-eucharist-late-service/2027-12-26/
LOCATION:St. Matthew’s Episcopal Church\, 5900 7th Ave\, Kenosha\, WI\, 53140\, United States
END:VEVENT
BEGIN:VEVENT
DTSTART;TZID=America/Chicago:20280102T073000
DTEND;TZID=America/Chicago:20280102T083000
DTSTAMP:20260422T170848
CREATED:20260414T152122Z
LAST-MODIFIED:20260414T152126Z
UID:10000758-1830411000-1830414600@stmatthewskenosha.net
SUMMARY:Holy Eucharist (Early Service)
DESCRIPTION:Traditional Sunday worship service with Holy Eucharist & sermon
URL:https://stmatthewskenosha.net/event/holy-eucharist-early-service/2028-01-02/
LOCATION:St. Matthew’s Episcopal Church\, 5900 7th Ave\, Kenosha\, WI\, 53140\, United States
END:VEVENT
BEGIN:VEVENT
DTSTART;TZID=America/Chicago:20280102T110000
DTEND;TZID=America/Chicago:20280102T120000
DTSTAMP:20260422T170848
CREATED:20260414T152437Z
LAST-MODIFIED:20260414T152443Z
UID:10001016-1830423600-1830427200@stmatthewskenosha.net
SUMMARY:Holy Eucharist (Late Service)
DESCRIPTION:Traditional Sunday worship service with Holy Eucharist\, music & sermon
URL:https://stmatthewskenosha.net/event/holy-eucharist-late-service/2028-01-02/
LOCATION:St. Matthew’s Episcopal Church\, 5900 7th Ave\, Kenosha\, WI\, 53140\, United States
END:VEVENT
BEGIN:VEVENT
DTSTART;TZID=America/Chicago:20280105T173000
DTEND;TZID=America/Chicago:20280105T183000
DTSTAMP:20260422T170848
CREATED:20260414T175607Z
LAST-MODIFIED:20260414T175612Z
UID:10001574-1830706200-1830709800@stmatthewskenosha.net
SUMMARY:Buildings & Grounds Meeting
DESCRIPTION:Monthly Buildings & Grounds committee meeting on the 1st Wednesday of every month.
URL:https://stmatthewskenosha.net/event/buildings-grounds-meeting/2028-01-05/
LOCATION:Lower Hall (Guild Hall)\, 5900 7th Ave\, Kenosha\, WI\, 53140\, United States
CATEGORIES:Meeting
ATTACH;FMTTYPE=image/png:https://stmatthewskenosha.net/wp-content/uploads/2025/09/helping-hands.png
END:VEVENT
BEGIN:VEVENT
DTSTART;TZID=America/Chicago:20280108T100000
DTEND;TZID=America/Chicago:20280108T110000
DTSTAMP:20260422T170848
CREATED:20260414T153237Z
LAST-MODIFIED:20260414T153242Z
UID:10001208-1830938400-1830942000@stmatthewskenosha.net
SUMMARY:Sips & Scripture
DESCRIPTION:Sip & Scripture is a NEW faith and fellowship group for the women of St. Matthew’s. We will have new topics to discuss monthly with open discussion. \n\n\n\nWe are reading “Women of the BIble” by Ann Spangler (Author)\, Jean E. Syswerda (Author)
URL:https://stmatthewskenosha.net/event/sips-scripture-2/2028-01-08/
LOCATION:Marina Gardens\, 5001 7th Ave\, Kenosha\, Wisconsin\, 53140\, United States
CATEGORIES:Outreach
ATTACH;FMTTYPE=image/png:https://stmatthewskenosha.net/wp-content/uploads/2026/03/Screenshot-2026-01-08-at-11.15.42-AM.png
END:VEVENT
BEGIN:VEVENT
DTSTART;TZID=America/Chicago:20280109T073000
DTEND;TZID=America/Chicago:20280109T083000
DTSTAMP:20260422T170848
CREATED:20260414T152122Z
LAST-MODIFIED:20260414T152126Z
UID:10000759-1831015800-1831019400@stmatthewskenosha.net
SUMMARY:Holy Eucharist (Early Service)
DESCRIPTION:Traditional Sunday worship service with Holy Eucharist & sermon
URL:https://stmatthewskenosha.net/event/holy-eucharist-early-service/2028-01-09/
LOCATION:St. Matthew’s Episcopal Church\, 5900 7th Ave\, Kenosha\, WI\, 53140\, United States
END:VEVENT
BEGIN:VEVENT
DTSTART;TZID=America/Chicago:20280109T110000
DTEND;TZID=America/Chicago:20280109T120000
DTSTAMP:20260422T170848
CREATED:20260414T152437Z
LAST-MODIFIED:20260414T152443Z
UID:10001017-1831028400-1831032000@stmatthewskenosha.net
SUMMARY:Holy Eucharist (Late Service)
DESCRIPTION:Traditional Sunday worship service with Holy Eucharist\, music & sermon
URL:https://stmatthewskenosha.net/event/holy-eucharist-late-service/2028-01-09/
LOCATION:St. Matthew’s Episcopal Church\, 5900 7th Ave\, Kenosha\, WI\, 53140\, United States
END:VEVENT
BEGIN:VEVENT
DTSTART;TZID=America/Chicago:20280111T180000
DTEND;TZID=America/Chicago:20280111T190000
DTSTAMP:20260422T170848
CREATED:20260414T174815Z
LAST-MODIFIED:20260414T174820Z
UID:10001514-1831226400-1831230000@stmatthewskenosha.net
SUMMARY:Finance Meeting
DESCRIPTION:Finance Committee meeting\, 2nd Tuesday of the month
URL:https://stmatthewskenosha.net/event/finance-meeting/2028-01-11/
LOCATION:Lower Hall (Guild Hall)\, 5900 7th Ave\, Kenosha\, WI\, 53140\, United States
CATEGORIES:Meeting
ATTACH;FMTTYPE=image/png:https://stmatthewskenosha.net/wp-content/uploads/2025/09/81.png
END:VEVENT
BEGIN:VEVENT
DTSTART;TZID=America/Chicago:20280116T073000
DTEND;TZID=America/Chicago:20280116T083000
DTSTAMP:20260422T170848
CREATED:20260414T152122Z
LAST-MODIFIED:20260414T152126Z
UID:10000760-1831620600-1831624200@stmatthewskenosha.net
SUMMARY:Holy Eucharist (Early Service)
DESCRIPTION:Traditional Sunday worship service with Holy Eucharist & sermon
URL:https://stmatthewskenosha.net/event/holy-eucharist-early-service/2028-01-16/
LOCATION:St. Matthew’s Episcopal Church\, 5900 7th Ave\, Kenosha\, WI\, 53140\, United States
END:VEVENT
BEGIN:VEVENT
DTSTART;TZID=America/Chicago:20280116T110000
DTEND;TZID=America/Chicago:20280116T120000
DTSTAMP:20260422T170848
CREATED:20260414T152437Z
LAST-MODIFIED:20260414T152443Z
UID:10001018-1831633200-1831636800@stmatthewskenosha.net
SUMMARY:Holy Eucharist (Late Service)
DESCRIPTION:Traditional Sunday worship service with Holy Eucharist\, music & sermon
URL:https://stmatthewskenosha.net/event/holy-eucharist-late-service/2028-01-16/
LOCATION:St. Matthew’s Episcopal Church\, 5900 7th Ave\, Kenosha\, WI\, 53140\, United States
END:VEVENT
BEGIN:VEVENT
DTSTART;TZID=America/Chicago:20280118T190000
DTEND;TZID=America/Chicago:20280118T203000
DTSTAMP:20260422T170848
CREATED:20260414T161319Z
LAST-MODIFIED:20260414T161412Z
UID:10001331-1831834800-1831840200@stmatthewskenosha.net
SUMMARY:Vestry Meeting
DESCRIPTION:Monthly Vestry meeting on the third Tuesday on every month.
URL:https://stmatthewskenosha.net/event/vestry-meeting-2/2028-01-18/
LOCATION:Lower Hall (Guild Hall)\, 5900 7th Ave\, Kenosha\, WI\, 53140\, United States
CATEGORIES:Meeting
ATTACH;FMTTYPE=image/png:https://stmatthewskenosha.net/wp-content/uploads/2025/09/lay-ministry.png
END:VEVENT
BEGIN:VEVENT
DTSTART;TZID=America/Chicago:20280123T073000
DTEND;TZID=America/Chicago:20280123T083000
DTSTAMP:20260422T170848
CREATED:20260414T152122Z
LAST-MODIFIED:20260414T152126Z
UID:10000761-1832225400-1832229000@stmatthewskenosha.net
SUMMARY:Holy Eucharist (Early Service)
DESCRIPTION:Traditional Sunday worship service with Holy Eucharist & sermon
URL:https://stmatthewskenosha.net/event/holy-eucharist-early-service/2028-01-23/
LOCATION:St. Matthew’s Episcopal Church\, 5900 7th Ave\, Kenosha\, WI\, 53140\, United States
END:VEVENT
BEGIN:VEVENT
DTSTART;TZID=America/Chicago:20280123T110000
DTEND;TZID=America/Chicago:20280123T120000
DTSTAMP:20260422T170848
CREATED:20260414T152437Z
LAST-MODIFIED:20260414T152443Z
UID:10001019-1832238000-1832241600@stmatthewskenosha.net
SUMMARY:Holy Eucharist (Late Service)
DESCRIPTION:Traditional Sunday worship service with Holy Eucharist\, music & sermon
URL:https://stmatthewskenosha.net/event/holy-eucharist-late-service/2028-01-23/
LOCATION:St. Matthew’s Episcopal Church\, 5900 7th Ave\, Kenosha\, WI\, 53140\, United States
END:VEVENT
BEGIN:VEVENT
DTSTART;TZID=America/Chicago:20280130T073000
DTEND;TZID=America/Chicago:20280130T083000
DTSTAMP:20260422T170848
CREATED:20260414T152122Z
LAST-MODIFIED:20260414T152126Z
UID:10000762-1832830200-1832833800@stmatthewskenosha.net
SUMMARY:Holy Eucharist (Early Service)
DESCRIPTION:Traditional Sunday worship service with Holy Eucharist & sermon
URL:https://stmatthewskenosha.net/event/holy-eucharist-early-service/2028-01-30/
LOCATION:St. Matthew’s Episcopal Church\, 5900 7th Ave\, Kenosha\, WI\, 53140\, United States
END:VEVENT
BEGIN:VEVENT
DTSTART;TZID=America/Chicago:20280130T110000
DTEND;TZID=America/Chicago:20280130T120000
DTSTAMP:20260422T170848
CREATED:20260414T152437Z
LAST-MODIFIED:20260414T152443Z
UID:10001020-1832842800-1832846400@stmatthewskenosha.net
SUMMARY:Holy Eucharist (Late Service)
DESCRIPTION:Traditional Sunday worship service with Holy Eucharist\, music & sermon
URL:https://stmatthewskenosha.net/event/holy-eucharist-late-service/2028-01-30/
LOCATION:St. Matthew’s Episcopal Church\, 5900 7th Ave\, Kenosha\, WI\, 53140\, United States
END:VEVENT
BEGIN:VEVENT
DTSTART;TZID=America/Chicago:20280202T173000
DTEND;TZID=America/Chicago:20280202T183000
DTSTAMP:20260422T170848
CREATED:20260414T175607Z
LAST-MODIFIED:20260414T175612Z
UID:10001575-1833125400-1833129000@stmatthewskenosha.net
SUMMARY:Buildings & Grounds Meeting
DESCRIPTION:Monthly Buildings & Grounds committee meeting on the 1st Wednesday of every month.
URL:https://stmatthewskenosha.net/event/buildings-grounds-meeting/2028-02-02/
LOCATION:Lower Hall (Guild Hall)\, 5900 7th Ave\, Kenosha\, WI\, 53140\, United States
CATEGORIES:Meeting
ATTACH;FMTTYPE=image/png:https://stmatthewskenosha.net/wp-content/uploads/2025/09/helping-hands.png
END:VEVENT
BEGIN:VEVENT
DTSTART;TZID=America/Chicago:20280206T073000
DTEND;TZID=America/Chicago:20280206T083000
DTSTAMP:20260422T170848
CREATED:20260414T152122Z
LAST-MODIFIED:20260414T152126Z
UID:10000763-1833435000-1833438600@stmatthewskenosha.net
SUMMARY:Holy Eucharist (Early Service)
DESCRIPTION:Traditional Sunday worship service with Holy Eucharist & sermon
URL:https://stmatthewskenosha.net/event/holy-eucharist-early-service/2028-02-06/
LOCATION:St. Matthew’s Episcopal Church\, 5900 7th Ave\, Kenosha\, WI\, 53140\, United States
END:VEVENT
BEGIN:VEVENT
DTSTART;TZID=America/Chicago:20280206T110000
DTEND;TZID=America/Chicago:20280206T120000
DTSTAMP:20260422T170848
CREATED:20260414T152437Z
LAST-MODIFIED:20260414T152443Z
UID:10001021-1833447600-1833451200@stmatthewskenosha.net
SUMMARY:Holy Eucharist (Late Service)
DESCRIPTION:Traditional Sunday worship service with Holy Eucharist\, music & sermon
URL:https://stmatthewskenosha.net/event/holy-eucharist-late-service/2028-02-06/
LOCATION:St. Matthew’s Episcopal Church\, 5900 7th Ave\, Kenosha\, WI\, 53140\, United States
END:VEVENT
BEGIN:VEVENT
DTSTART;TZID=America/Chicago:20280208T180000
DTEND;TZID=America/Chicago:20280208T190000
DTSTAMP:20260422T170848
CREATED:20260414T174815Z
LAST-MODIFIED:20260414T174820Z
UID:10001515-1833645600-1833649200@stmatthewskenosha.net
SUMMARY:Finance Meeting
DESCRIPTION:Finance Committee meeting\, 2nd Tuesday of the month
URL:https://stmatthewskenosha.net/event/finance-meeting/2028-02-08/
LOCATION:Lower Hall (Guild Hall)\, 5900 7th Ave\, Kenosha\, WI\, 53140\, United States
CATEGORIES:Meeting
ATTACH;FMTTYPE=image/png:https://stmatthewskenosha.net/wp-content/uploads/2025/09/81.png
END:VEVENT
BEGIN:VEVENT
DTSTART;TZID=America/Chicago:20280212T100000
DTEND;TZID=America/Chicago:20280212T110000
DTSTAMP:20260422T170848
CREATED:20260414T153237Z
LAST-MODIFIED:20260414T153242Z
UID:10001209-1833962400-1833966000@stmatthewskenosha.net
SUMMARY:Sips & Scripture
DESCRIPTION:Sip & Scripture is a NEW faith and fellowship group for the women of St. Matthew’s. We will have new topics to discuss monthly with open discussion. \n\n\n\nWe are reading “Women of the BIble” by Ann Spangler (Author)\, Jean E. Syswerda (Author)
URL:https://stmatthewskenosha.net/event/sips-scripture-2/2028-02-12/
LOCATION:Marina Gardens\, 5001 7th Ave\, Kenosha\, Wisconsin\, 53140\, United States
CATEGORIES:Outreach
ATTACH;FMTTYPE=image/png:https://stmatthewskenosha.net/wp-content/uploads/2026/03/Screenshot-2026-01-08-at-11.15.42-AM.png
END:VEVENT
BEGIN:VEVENT
DTSTART;TZID=America/Chicago:20280213T073000
DTEND;TZID=America/Chicago:20280213T083000
DTSTAMP:20260422T170848
CREATED:20260414T152122Z
LAST-MODIFIED:20260414T152126Z
UID:10000764-1834039800-1834043400@stmatthewskenosha.net
SUMMARY:Holy Eucharist (Early Service)
DESCRIPTION:Traditional Sunday worship service with Holy Eucharist & sermon
URL:https://stmatthewskenosha.net/event/holy-eucharist-early-service/2028-02-13/
LOCATION:St. Matthew’s Episcopal Church\, 5900 7th Ave\, Kenosha\, WI\, 53140\, United States
END:VEVENT
BEGIN:VEVENT
DTSTART;TZID=America/Chicago:20280213T110000
DTEND;TZID=America/Chicago:20280213T120000
DTSTAMP:20260422T170848
CREATED:20260414T152437Z
LAST-MODIFIED:20260414T152443Z
UID:10001022-1834052400-1834056000@stmatthewskenosha.net
SUMMARY:Holy Eucharist (Late Service)
DESCRIPTION:Traditional Sunday worship service with Holy Eucharist\, music & sermon
URL:https://stmatthewskenosha.net/event/holy-eucharist-late-service/2028-02-13/
LOCATION:St. Matthew’s Episcopal Church\, 5900 7th Ave\, Kenosha\, WI\, 53140\, United States
END:VEVENT
BEGIN:VEVENT
DTSTART;TZID=America/Chicago:20280215T190000
DTEND;TZID=America/Chicago:20280215T203000
DTSTAMP:20260422T170848
CREATED:20260414T161319Z
LAST-MODIFIED:20260414T161412Z
UID:10001332-1834254000-1834259400@stmatthewskenosha.net
SUMMARY:Vestry Meeting
DESCRIPTION:Monthly Vestry meeting on the third Tuesday on every month.
URL:https://stmatthewskenosha.net/event/vestry-meeting-2/2028-02-15/
LOCATION:Lower Hall (Guild Hall)\, 5900 7th Ave\, Kenosha\, WI\, 53140\, United States
CATEGORIES:Meeting
ATTACH;FMTTYPE=image/png:https://stmatthewskenosha.net/wp-content/uploads/2025/09/lay-ministry.png
END:VEVENT
BEGIN:VEVENT
DTSTART;TZID=America/Chicago:20280220T073000
DTEND;TZID=America/Chicago:20280220T083000
DTSTAMP:20260422T170848
CREATED:20260414T152122Z
LAST-MODIFIED:20260414T152126Z
UID:10000765-1834644600-1834648200@stmatthewskenosha.net
SUMMARY:Holy Eucharist (Early Service)
DESCRIPTION:Traditional Sunday worship service with Holy Eucharist & sermon
URL:https://stmatthewskenosha.net/event/holy-eucharist-early-service/2028-02-20/
LOCATION:St. Matthew’s Episcopal Church\, 5900 7th Ave\, Kenosha\, WI\, 53140\, United States
END:VEVENT
BEGIN:VEVENT
DTSTART;TZID=America/Chicago:20280220T110000
DTEND;TZID=America/Chicago:20280220T120000
DTSTAMP:20260422T170848
CREATED:20260414T152437Z
LAST-MODIFIED:20260414T152443Z
UID:10001023-1834657200-1834660800@stmatthewskenosha.net
SUMMARY:Holy Eucharist (Late Service)
DESCRIPTION:Traditional Sunday worship service with Holy Eucharist\, music & sermon
URL:https://stmatthewskenosha.net/event/holy-eucharist-late-service/2028-02-20/
LOCATION:St. Matthew’s Episcopal Church\, 5900 7th Ave\, Kenosha\, WI\, 53140\, United States
END:VEVENT
BEGIN:VEVENT
DTSTART;TZID=America/Chicago:20280227T073000
DTEND;TZID=America/Chicago:20280227T083000
DTSTAMP:20260422T170848
CREATED:20260414T152122Z
LAST-MODIFIED:20260414T152126Z
UID:10000766-1835249400-1835253000@stmatthewskenosha.net
SUMMARY:Holy Eucharist (Early Service)
DESCRIPTION:Traditional Sunday worship service with Holy Eucharist & sermon
URL:https://stmatthewskenosha.net/event/holy-eucharist-early-service/2028-02-27/
LOCATION:St. Matthew’s Episcopal Church\, 5900 7th Ave\, Kenosha\, WI\, 53140\, United States
END:VEVENT
BEGIN:VEVENT
DTSTART;TZID=America/Chicago:20280227T110000
DTEND;TZID=America/Chicago:20280227T120000
DTSTAMP:20260422T170848
CREATED:20260414T152437Z
LAST-MODIFIED:20260414T152443Z
UID:10001024-1835262000-1835265600@stmatthewskenosha.net
SUMMARY:Holy Eucharist (Late Service)
DESCRIPTION:Traditional Sunday worship service with Holy Eucharist\, music & sermon
URL:https://stmatthewskenosha.net/event/holy-eucharist-late-service/2028-02-27/
LOCATION:St. Matthew’s Episcopal Church\, 5900 7th Ave\, Kenosha\, WI\, 53140\, United States
END:VEVENT
BEGIN:VEVENT
DTSTART;TZID=America/Chicago:20280301T173000
DTEND;TZID=America/Chicago:20280301T183000
DTSTAMP:20260422T170848
CREATED:20260414T175607Z
LAST-MODIFIED:20260414T175612Z
UID:10001576-1835544600-1835548200@stmatthewskenosha.net
SUMMARY:Buildings & Grounds Meeting
DESCRIPTION:Monthly Buildings & Grounds committee meeting on the 1st Wednesday of every month.
URL:https://stmatthewskenosha.net/event/buildings-grounds-meeting/2028-03-01/
LOCATION:Lower Hall (Guild Hall)\, 5900 7th Ave\, Kenosha\, WI\, 53140\, United States
CATEGORIES:Meeting
ATTACH;FMTTYPE=image/png:https://stmatthewskenosha.net/wp-content/uploads/2025/09/helping-hands.png
END:VEVENT
BEGIN:VEVENT
DTSTART;TZID=America/Chicago:20280305T073000
DTEND;TZID=America/Chicago:20280305T083000
DTSTAMP:20260422T170848
CREATED:20260414T152122Z
LAST-MODIFIED:20260414T152126Z
UID:10000767-1835854200-1835857800@stmatthewskenosha.net
SUMMARY:Holy Eucharist (Early Service)
DESCRIPTION:Traditional Sunday worship service with Holy Eucharist & sermon
URL:https://stmatthewskenosha.net/event/holy-eucharist-early-service/2028-03-05/
LOCATION:St. Matthew’s Episcopal Church\, 5900 7th Ave\, Kenosha\, WI\, 53140\, United States
END:VEVENT
BEGIN:VEVENT
DTSTART;TZID=America/Chicago:20280305T110000
DTEND;TZID=America/Chicago:20280305T120000
DTSTAMP:20260422T170848
CREATED:20260414T152437Z
LAST-MODIFIED:20260414T152443Z
UID:10001025-1835866800-1835870400@stmatthewskenosha.net
SUMMARY:Holy Eucharist (Late Service)
DESCRIPTION:Traditional Sunday worship service with Holy Eucharist\, music & sermon
URL:https://stmatthewskenosha.net/event/holy-eucharist-late-service/2028-03-05/
LOCATION:St. Matthew’s Episcopal Church\, 5900 7th Ave\, Kenosha\, WI\, 53140\, United States
END:VEVENT
END:VCALENDAR