BEGIN:VCALENDAR
VERSION:2.0
PRODID:-//St. Mathew&#039;s Episcopal Church - ECPv6.15.20//NONSGML v1.0//EN
CALSCALE:GREGORIAN
METHOD:PUBLISH
X-WR-CALNAME:St. Mathew&#039;s Episcopal Church
X-ORIGINAL-URL:https://stmatthewskenosha.net
X-WR-CALDESC:Events for St. Mathew&#039;s Episcopal Church
REFRESH-INTERVAL;VALUE=DURATION:PT1H
X-Robots-Tag:noindex
X-PUBLISHED-TTL:PT1H
BEGIN:VTIMEZONE
TZID:America/Chicago
BEGIN:DAYLIGHT
TZOFFSETFROM:-0600
TZOFFSETTO:-0500
TZNAME:CDT
DTSTART:20260308T080000
END:DAYLIGHT
BEGIN:STANDARD
TZOFFSETFROM:-0500
TZOFFSETTO:-0600
TZNAME:CST
DTSTART:20261101T070000
END:STANDARD
BEGIN:DAYLIGHT
TZOFFSETFROM:-0600
TZOFFSETTO:-0500
TZNAME:CDT
DTSTART:20270314T080000
END:DAYLIGHT
BEGIN:STANDARD
TZOFFSETFROM:-0500
TZOFFSETTO:-0600
TZNAME:CST
DTSTART:20271107T070000
END:STANDARD
BEGIN:DAYLIGHT
TZOFFSETFROM:-0600
TZOFFSETTO:-0500
TZNAME:CDT
DTSTART:20280312T080000
END:DAYLIGHT
BEGIN:STANDARD
TZOFFSETFROM:-0500
TZOFFSETTO:-0600
TZNAME:CST
DTSTART:20281105T070000
END:STANDARD
END:VTIMEZONE
BEGIN:VEVENT
DTSTART;TZID=America/Chicago:20270905T073000
DTEND;TZID=America/Chicago:20270905T083000
DTSTAMP:20260422T035917
CREATED:20260414T152122Z
LAST-MODIFIED:20260414T152126Z
UID:10000741-1820129400-1820133000@stmatthewskenosha.net
SUMMARY:Holy Eucharist (Early Service)
DESCRIPTION:Traditional Sunday worship service with Holy Eucharist & sermon
URL:https://stmatthewskenosha.net/event/holy-eucharist-early-service/2027-09-05/
LOCATION:St. Matthew’s Episcopal Church\, 5900 7th Ave\, Kenosha\, WI\, 53140\, United States
END:VEVENT
BEGIN:VEVENT
DTSTART;TZID=America/Chicago:20270905T110000
DTEND;TZID=America/Chicago:20270905T120000
DTSTAMP:20260422T035917
CREATED:20260414T152437Z
LAST-MODIFIED:20260414T152443Z
UID:10000999-1820142000-1820145600@stmatthewskenosha.net
SUMMARY:Holy Eucharist (Late Service)
DESCRIPTION:Traditional Sunday worship service with Holy Eucharist\, music & sermon
URL:https://stmatthewskenosha.net/event/holy-eucharist-late-service/2027-09-05/
LOCATION:St. Matthew’s Episcopal Church\, 5900 7th Ave\, Kenosha\, WI\, 53140\, United States
END:VEVENT
BEGIN:VEVENT
DTSTART;TZID=America/Chicago:20270911T100000
DTEND;TZID=America/Chicago:20270911T110000
DTSTAMP:20260422T035917
CREATED:20260414T153237Z
LAST-MODIFIED:20260414T153242Z
UID:10001204-1820656800-1820660400@stmatthewskenosha.net
SUMMARY:Sips & Scripture
DESCRIPTION:Sip & Scripture is a NEW faith and fellowship group for the women of St. Matthew’s. We will have new topics to discuss monthly with open discussion. \n\n\n\nWe are reading “Women of the BIble” by Ann Spangler (Author)\, Jean E. Syswerda (Author)
URL:https://stmatthewskenosha.net/event/sips-scripture-2/2027-09-11/
LOCATION:Marina Gardens\, 5001 7th Ave\, Kenosha\, Wisconsin\, 53140\, United States
CATEGORIES:Outreach
ATTACH;FMTTYPE=image/png:https://stmatthewskenosha.net/wp-content/uploads/2026/03/Screenshot-2026-01-08-at-11.15.42-AM.png
END:VEVENT
BEGIN:VEVENT
DTSTART;TZID=America/Chicago:20270912T073000
DTEND;TZID=America/Chicago:20270912T083000
DTSTAMP:20260422T035917
CREATED:20260414T152122Z
LAST-MODIFIED:20260414T152126Z
UID:10000742-1820734200-1820737800@stmatthewskenosha.net
SUMMARY:Holy Eucharist (Early Service)
DESCRIPTION:Traditional Sunday worship service with Holy Eucharist & sermon
URL:https://stmatthewskenosha.net/event/holy-eucharist-early-service/2027-09-12/
LOCATION:St. Matthew’s Episcopal Church\, 5900 7th Ave\, Kenosha\, WI\, 53140\, United States
END:VEVENT
BEGIN:VEVENT
DTSTART;TZID=America/Chicago:20270912T110000
DTEND;TZID=America/Chicago:20270912T120000
DTSTAMP:20260422T035917
CREATED:20260414T152437Z
LAST-MODIFIED:20260414T152443Z
UID:10001000-1820746800-1820750400@stmatthewskenosha.net
SUMMARY:Holy Eucharist (Late Service)
DESCRIPTION:Traditional Sunday worship service with Holy Eucharist\, music & sermon
URL:https://stmatthewskenosha.net/event/holy-eucharist-late-service/2027-09-12/
LOCATION:St. Matthew’s Episcopal Church\, 5900 7th Ave\, Kenosha\, WI\, 53140\, United States
END:VEVENT
BEGIN:VEVENT
DTSTART;TZID=America/Chicago:20270914T180000
DTEND;TZID=America/Chicago:20270914T190000
DTSTAMP:20260422T035917
CREATED:20260414T174815Z
LAST-MODIFIED:20260414T174820Z
UID:10001510-1820944800-1820948400@stmatthewskenosha.net
SUMMARY:Finance Meeting
DESCRIPTION:Finance Committee meeting\, 2nd Tuesday of the month
URL:https://stmatthewskenosha.net/event/finance-meeting/2027-09-14/
LOCATION:Lower Hall (Guild Hall)\, 5900 7th Ave\, Kenosha\, WI\, 53140\, United States
CATEGORIES:Meeting
ATTACH;FMTTYPE=image/png:https://stmatthewskenosha.net/wp-content/uploads/2025/09/81.png
END:VEVENT
BEGIN:VEVENT
DTSTART;TZID=America/Chicago:20270919T073000
DTEND;TZID=America/Chicago:20270919T083000
DTSTAMP:20260422T035917
CREATED:20260414T152122Z
LAST-MODIFIED:20260414T152126Z
UID:10000743-1821339000-1821342600@stmatthewskenosha.net
SUMMARY:Holy Eucharist (Early Service)
DESCRIPTION:Traditional Sunday worship service with Holy Eucharist & sermon
URL:https://stmatthewskenosha.net/event/holy-eucharist-early-service/2027-09-19/
LOCATION:St. Matthew’s Episcopal Church\, 5900 7th Ave\, Kenosha\, WI\, 53140\, United States
END:VEVENT
BEGIN:VEVENT
DTSTART;TZID=America/Chicago:20270919T110000
DTEND;TZID=America/Chicago:20270919T120000
DTSTAMP:20260422T035917
CREATED:20260414T152437Z
LAST-MODIFIED:20260414T152443Z
UID:10001001-1821351600-1821355200@stmatthewskenosha.net
SUMMARY:Holy Eucharist (Late Service)
DESCRIPTION:Traditional Sunday worship service with Holy Eucharist\, music & sermon
URL:https://stmatthewskenosha.net/event/holy-eucharist-late-service/2027-09-19/
LOCATION:St. Matthew’s Episcopal Church\, 5900 7th Ave\, Kenosha\, WI\, 53140\, United States
END:VEVENT
BEGIN:VEVENT
DTSTART;TZID=America/Chicago:20270921T190000
DTEND;TZID=America/Chicago:20270921T203000
DTSTAMP:20260422T035917
CREATED:20260414T161319Z
LAST-MODIFIED:20260414T161412Z
UID:10001327-1821553200-1821558600@stmatthewskenosha.net
SUMMARY:Vestry Meeting
DESCRIPTION:Monthly Vestry meeting on the third Tuesday on every month.
URL:https://stmatthewskenosha.net/event/vestry-meeting-2/2027-09-21/
LOCATION:Lower Hall (Guild Hall)\, 5900 7th Ave\, Kenosha\, WI\, 53140\, United States
CATEGORIES:Meeting
ATTACH;FMTTYPE=image/png:https://stmatthewskenosha.net/wp-content/uploads/2025/09/lay-ministry.png
END:VEVENT
BEGIN:VEVENT
DTSTART;TZID=America/Chicago:20270926T073000
DTEND;TZID=America/Chicago:20270926T083000
DTSTAMP:20260422T035917
CREATED:20260414T152122Z
LAST-MODIFIED:20260414T152126Z
UID:10000744-1821943800-1821947400@stmatthewskenosha.net
SUMMARY:Holy Eucharist (Early Service)
DESCRIPTION:Traditional Sunday worship service with Holy Eucharist & sermon
URL:https://stmatthewskenosha.net/event/holy-eucharist-early-service/2027-09-26/
LOCATION:St. Matthew’s Episcopal Church\, 5900 7th Ave\, Kenosha\, WI\, 53140\, United States
END:VEVENT
BEGIN:VEVENT
DTSTART;TZID=America/Chicago:20270926T110000
DTEND;TZID=America/Chicago:20270926T120000
DTSTAMP:20260422T035918
CREATED:20260414T152437Z
LAST-MODIFIED:20260414T152443Z
UID:10001002-1821956400-1821960000@stmatthewskenosha.net
SUMMARY:Holy Eucharist (Late Service)
DESCRIPTION:Traditional Sunday worship service with Holy Eucharist\, music & sermon
URL:https://stmatthewskenosha.net/event/holy-eucharist-late-service/2027-09-26/
LOCATION:St. Matthew’s Episcopal Church\, 5900 7th Ave\, Kenosha\, WI\, 53140\, United States
END:VEVENT
BEGIN:VEVENT
DTSTART;TZID=America/Chicago:20271003T073000
DTEND;TZID=America/Chicago:20271003T083000
DTSTAMP:20260422T035918
CREATED:20260414T152122Z
LAST-MODIFIED:20260414T152126Z
UID:10000745-1822548600-1822552200@stmatthewskenosha.net
SUMMARY:Holy Eucharist (Early Service)
DESCRIPTION:Traditional Sunday worship service with Holy Eucharist & sermon
URL:https://stmatthewskenosha.net/event/holy-eucharist-early-service/2027-10-03/
LOCATION:St. Matthew’s Episcopal Church\, 5900 7th Ave\, Kenosha\, WI\, 53140\, United States
END:VEVENT
BEGIN:VEVENT
DTSTART;TZID=America/Chicago:20271003T110000
DTEND;TZID=America/Chicago:20271003T120000
DTSTAMP:20260422T035918
CREATED:20260414T152437Z
LAST-MODIFIED:20260414T152443Z
UID:10001003-1822561200-1822564800@stmatthewskenosha.net
SUMMARY:Holy Eucharist (Late Service)
DESCRIPTION:Traditional Sunday worship service with Holy Eucharist\, music & sermon
URL:https://stmatthewskenosha.net/event/holy-eucharist-late-service/2027-10-03/
LOCATION:St. Matthew’s Episcopal Church\, 5900 7th Ave\, Kenosha\, WI\, 53140\, United States
END:VEVENT
BEGIN:VEVENT
DTSTART;TZID=America/Chicago:20271006T173000
DTEND;TZID=America/Chicago:20271006T183000
DTSTAMP:20260422T035918
CREATED:20260414T175607Z
LAST-MODIFIED:20260414T175612Z
UID:10001571-1822843800-1822847400@stmatthewskenosha.net
SUMMARY:Buildings & Grounds Meeting
DESCRIPTION:Monthly Buildings & Grounds committee meeting on the 1st Wednesday of every month.
URL:https://stmatthewskenosha.net/event/buildings-grounds-meeting/2027-10-06/
LOCATION:Lower Hall (Guild Hall)\, 5900 7th Ave\, Kenosha\, WI\, 53140\, United States
CATEGORIES:Meeting
ATTACH;FMTTYPE=image/png:https://stmatthewskenosha.net/wp-content/uploads/2025/09/helping-hands.png
END:VEVENT
BEGIN:VEVENT
DTSTART;TZID=America/Chicago:20271009T100000
DTEND;TZID=America/Chicago:20271009T110000
DTSTAMP:20260422T035918
CREATED:20260414T153237Z
LAST-MODIFIED:20260414T153242Z
UID:10001205-1823076000-1823079600@stmatthewskenosha.net
SUMMARY:Sips & Scripture
DESCRIPTION:Sip & Scripture is a NEW faith and fellowship group for the women of St. Matthew’s. We will have new topics to discuss monthly with open discussion. \n\n\n\nWe are reading “Women of the BIble” by Ann Spangler (Author)\, Jean E. Syswerda (Author)
URL:https://stmatthewskenosha.net/event/sips-scripture-2/2027-10-09/
LOCATION:Marina Gardens\, 5001 7th Ave\, Kenosha\, Wisconsin\, 53140\, United States
CATEGORIES:Outreach
ATTACH;FMTTYPE=image/png:https://stmatthewskenosha.net/wp-content/uploads/2026/03/Screenshot-2026-01-08-at-11.15.42-AM.png
END:VEVENT
BEGIN:VEVENT
DTSTART;TZID=America/Chicago:20271010T073000
DTEND;TZID=America/Chicago:20271010T083000
DTSTAMP:20260422T035918
CREATED:20260414T152122Z
LAST-MODIFIED:20260414T152126Z
UID:10000746-1823153400-1823157000@stmatthewskenosha.net
SUMMARY:Holy Eucharist (Early Service)
DESCRIPTION:Traditional Sunday worship service with Holy Eucharist & sermon
URL:https://stmatthewskenosha.net/event/holy-eucharist-early-service/2027-10-10/
LOCATION:St. Matthew’s Episcopal Church\, 5900 7th Ave\, Kenosha\, WI\, 53140\, United States
END:VEVENT
BEGIN:VEVENT
DTSTART;TZID=America/Chicago:20271010T110000
DTEND;TZID=America/Chicago:20271010T120000
DTSTAMP:20260422T035918
CREATED:20260414T152437Z
LAST-MODIFIED:20260414T152443Z
UID:10001004-1823166000-1823169600@stmatthewskenosha.net
SUMMARY:Holy Eucharist (Late Service)
DESCRIPTION:Traditional Sunday worship service with Holy Eucharist\, music & sermon
URL:https://stmatthewskenosha.net/event/holy-eucharist-late-service/2027-10-10/
LOCATION:St. Matthew’s Episcopal Church\, 5900 7th Ave\, Kenosha\, WI\, 53140\, United States
END:VEVENT
BEGIN:VEVENT
DTSTART;TZID=America/Chicago:20271012T180000
DTEND;TZID=America/Chicago:20271012T190000
DTSTAMP:20260422T035918
CREATED:20260414T174815Z
LAST-MODIFIED:20260414T174820Z
UID:10001511-1823364000-1823367600@stmatthewskenosha.net
SUMMARY:Finance Meeting
DESCRIPTION:Finance Committee meeting\, 2nd Tuesday of the month
URL:https://stmatthewskenosha.net/event/finance-meeting/2027-10-12/
LOCATION:Lower Hall (Guild Hall)\, 5900 7th Ave\, Kenosha\, WI\, 53140\, United States
CATEGORIES:Meeting
ATTACH;FMTTYPE=image/png:https://stmatthewskenosha.net/wp-content/uploads/2025/09/81.png
END:VEVENT
BEGIN:VEVENT
DTSTART;TZID=America/Chicago:20271017T073000
DTEND;TZID=America/Chicago:20271017T083000
DTSTAMP:20260422T035918
CREATED:20260414T152122Z
LAST-MODIFIED:20260414T152126Z
UID:10000747-1823758200-1823761800@stmatthewskenosha.net
SUMMARY:Holy Eucharist (Early Service)
DESCRIPTION:Traditional Sunday worship service with Holy Eucharist & sermon
URL:https://stmatthewskenosha.net/event/holy-eucharist-early-service/2027-10-17/
LOCATION:St. Matthew’s Episcopal Church\, 5900 7th Ave\, Kenosha\, WI\, 53140\, United States
END:VEVENT
BEGIN:VEVENT
DTSTART;TZID=America/Chicago:20271017T110000
DTEND;TZID=America/Chicago:20271017T120000
DTSTAMP:20260422T035918
CREATED:20260414T152437Z
LAST-MODIFIED:20260414T152443Z
UID:10001005-1823770800-1823774400@stmatthewskenosha.net
SUMMARY:Holy Eucharist (Late Service)
DESCRIPTION:Traditional Sunday worship service with Holy Eucharist\, music & sermon
URL:https://stmatthewskenosha.net/event/holy-eucharist-late-service/2027-10-17/
LOCATION:St. Matthew’s Episcopal Church\, 5900 7th Ave\, Kenosha\, WI\, 53140\, United States
END:VEVENT
BEGIN:VEVENT
DTSTART;TZID=America/Chicago:20271019T190000
DTEND;TZID=America/Chicago:20271019T203000
DTSTAMP:20260422T035918
CREATED:20260414T161319Z
LAST-MODIFIED:20260414T161412Z
UID:10001328-1823972400-1823977800@stmatthewskenosha.net
SUMMARY:Vestry Meeting
DESCRIPTION:Monthly Vestry meeting on the third Tuesday on every month.
URL:https://stmatthewskenosha.net/event/vestry-meeting-2/2027-10-19/
LOCATION:Lower Hall (Guild Hall)\, 5900 7th Ave\, Kenosha\, WI\, 53140\, United States
CATEGORIES:Meeting
ATTACH;FMTTYPE=image/png:https://stmatthewskenosha.net/wp-content/uploads/2025/09/lay-ministry.png
END:VEVENT
BEGIN:VEVENT
DTSTART;TZID=America/Chicago:20271024T073000
DTEND;TZID=America/Chicago:20271024T083000
DTSTAMP:20260422T035918
CREATED:20260414T152122Z
LAST-MODIFIED:20260414T152126Z
UID:10000748-1824363000-1824366600@stmatthewskenosha.net
SUMMARY:Holy Eucharist (Early Service)
DESCRIPTION:Traditional Sunday worship service with Holy Eucharist & sermon
URL:https://stmatthewskenosha.net/event/holy-eucharist-early-service/2027-10-24/
LOCATION:St. Matthew’s Episcopal Church\, 5900 7th Ave\, Kenosha\, WI\, 53140\, United States
END:VEVENT
BEGIN:VEVENT
DTSTART;TZID=America/Chicago:20271024T110000
DTEND;TZID=America/Chicago:20271024T120000
DTSTAMP:20260422T035918
CREATED:20260414T152437Z
LAST-MODIFIED:20260414T152443Z
UID:10001006-1824375600-1824379200@stmatthewskenosha.net
SUMMARY:Holy Eucharist (Late Service)
DESCRIPTION:Traditional Sunday worship service with Holy Eucharist\, music & sermon
URL:https://stmatthewskenosha.net/event/holy-eucharist-late-service/2027-10-24/
LOCATION:St. Matthew’s Episcopal Church\, 5900 7th Ave\, Kenosha\, WI\, 53140\, United States
END:VEVENT
BEGIN:VEVENT
DTSTART;TZID=America/Chicago:20271031T073000
DTEND;TZID=America/Chicago:20271031T083000
DTSTAMP:20260422T035918
CREATED:20260414T152122Z
LAST-MODIFIED:20260414T152126Z
UID:10000749-1824967800-1824971400@stmatthewskenosha.net
SUMMARY:Holy Eucharist (Early Service)
DESCRIPTION:Traditional Sunday worship service with Holy Eucharist & sermon
URL:https://stmatthewskenosha.net/event/holy-eucharist-early-service/2027-10-31/
LOCATION:St. Matthew’s Episcopal Church\, 5900 7th Ave\, Kenosha\, WI\, 53140\, United States
END:VEVENT
BEGIN:VEVENT
DTSTART;TZID=America/Chicago:20271031T110000
DTEND;TZID=America/Chicago:20271031T120000
DTSTAMP:20260422T035918
CREATED:20260414T152437Z
LAST-MODIFIED:20260414T152443Z
UID:10001007-1824980400-1824984000@stmatthewskenosha.net
SUMMARY:Holy Eucharist (Late Service)
DESCRIPTION:Traditional Sunday worship service with Holy Eucharist\, music & sermon
URL:https://stmatthewskenosha.net/event/holy-eucharist-late-service/2027-10-31/
LOCATION:St. Matthew’s Episcopal Church\, 5900 7th Ave\, Kenosha\, WI\, 53140\, United States
END:VEVENT
BEGIN:VEVENT
DTSTART;TZID=America/Chicago:20271103T173000
DTEND;TZID=America/Chicago:20271103T183000
DTSTAMP:20260422T035918
CREATED:20260414T175607Z
LAST-MODIFIED:20260414T175612Z
UID:10001572-1825263000-1825266600@stmatthewskenosha.net
SUMMARY:Buildings & Grounds Meeting
DESCRIPTION:Monthly Buildings & Grounds committee meeting on the 1st Wednesday of every month.
URL:https://stmatthewskenosha.net/event/buildings-grounds-meeting/2027-11-03/
LOCATION:Lower Hall (Guild Hall)\, 5900 7th Ave\, Kenosha\, WI\, 53140\, United States
CATEGORIES:Meeting
ATTACH;FMTTYPE=image/png:https://stmatthewskenosha.net/wp-content/uploads/2025/09/helping-hands.png
END:VEVENT
BEGIN:VEVENT
DTSTART;TZID=America/Chicago:20271107T073000
DTEND;TZID=America/Chicago:20271107T083000
DTSTAMP:20260422T035918
CREATED:20260414T152122Z
LAST-MODIFIED:20260414T152126Z
UID:10000750-1825572600-1825576200@stmatthewskenosha.net
SUMMARY:Holy Eucharist (Early Service)
DESCRIPTION:Traditional Sunday worship service with Holy Eucharist & sermon
URL:https://stmatthewskenosha.net/event/holy-eucharist-early-service/2027-11-07/
LOCATION:St. Matthew’s Episcopal Church\, 5900 7th Ave\, Kenosha\, WI\, 53140\, United States
END:VEVENT
BEGIN:VEVENT
DTSTART;TZID=America/Chicago:20271107T110000
DTEND;TZID=America/Chicago:20271107T120000
DTSTAMP:20260422T035918
CREATED:20260414T152437Z
LAST-MODIFIED:20260414T152443Z
UID:10001008-1825585200-1825588800@stmatthewskenosha.net
SUMMARY:Holy Eucharist (Late Service)
DESCRIPTION:Traditional Sunday worship service with Holy Eucharist\, music & sermon
URL:https://stmatthewskenosha.net/event/holy-eucharist-late-service/2027-11-07/
LOCATION:St. Matthew’s Episcopal Church\, 5900 7th Ave\, Kenosha\, WI\, 53140\, United States
END:VEVENT
BEGIN:VEVENT
DTSTART;TZID=America/Chicago:20271109T180000
DTEND;TZID=America/Chicago:20271109T190000
DTSTAMP:20260422T035918
CREATED:20260414T174815Z
LAST-MODIFIED:20260414T174820Z
UID:10001512-1825783200-1825786800@stmatthewskenosha.net
SUMMARY:Finance Meeting
DESCRIPTION:Finance Committee meeting\, 2nd Tuesday of the month
URL:https://stmatthewskenosha.net/event/finance-meeting/2027-11-09/
LOCATION:Lower Hall (Guild Hall)\, 5900 7th Ave\, Kenosha\, WI\, 53140\, United States
CATEGORIES:Meeting
ATTACH;FMTTYPE=image/png:https://stmatthewskenosha.net/wp-content/uploads/2025/09/81.png
END:VEVENT
BEGIN:VEVENT
DTSTART;TZID=America/Chicago:20271113T100000
DTEND;TZID=America/Chicago:20271113T110000
DTSTAMP:20260422T035918
CREATED:20260414T153237Z
LAST-MODIFIED:20260414T153242Z
UID:10001206-1826100000-1826103600@stmatthewskenosha.net
SUMMARY:Sips & Scripture
DESCRIPTION:Sip & Scripture is a NEW faith and fellowship group for the women of St. Matthew’s. We will have new topics to discuss monthly with open discussion. \n\n\n\nWe are reading “Women of the BIble” by Ann Spangler (Author)\, Jean E. Syswerda (Author)
URL:https://stmatthewskenosha.net/event/sips-scripture-2/2027-11-13/
LOCATION:Marina Gardens\, 5001 7th Ave\, Kenosha\, Wisconsin\, 53140\, United States
CATEGORIES:Outreach
ATTACH;FMTTYPE=image/png:https://stmatthewskenosha.net/wp-content/uploads/2026/03/Screenshot-2026-01-08-at-11.15.42-AM.png
END:VEVENT
END:VCALENDAR