BEGIN:VCALENDAR
VERSION:2.0
PRODID:-//St. Mathew&#039;s Episcopal Church - ECPv6.15.20//NONSGML v1.0//EN
CALSCALE:GREGORIAN
METHOD:PUBLISH
X-WR-CALNAME:St. Mathew&#039;s Episcopal Church
X-ORIGINAL-URL:https://stmatthewskenosha.net
X-WR-CALDESC:Events for St. Mathew&#039;s Episcopal Church
REFRESH-INTERVAL;VALUE=DURATION:PT1H
X-Robots-Tag:noindex
X-PUBLISHED-TTL:PT1H
BEGIN:VTIMEZONE
TZID:America/Chicago
BEGIN:DAYLIGHT
TZOFFSETFROM:-0600
TZOFFSETTO:-0500
TZNAME:CDT
DTSTART:20260308T080000
END:DAYLIGHT
BEGIN:STANDARD
TZOFFSETFROM:-0500
TZOFFSETTO:-0600
TZNAME:CST
DTSTART:20261101T070000
END:STANDARD
BEGIN:DAYLIGHT
TZOFFSETFROM:-0600
TZOFFSETTO:-0500
TZNAME:CDT
DTSTART:20270314T080000
END:DAYLIGHT
BEGIN:STANDARD
TZOFFSETFROM:-0500
TZOFFSETTO:-0600
TZNAME:CST
DTSTART:20271107T070000
END:STANDARD
BEGIN:DAYLIGHT
TZOFFSETFROM:-0600
TZOFFSETTO:-0500
TZNAME:CDT
DTSTART:20280312T080000
END:DAYLIGHT
BEGIN:STANDARD
TZOFFSETFROM:-0500
TZOFFSETTO:-0600
TZNAME:CST
DTSTART:20281105T070000
END:STANDARD
END:VTIMEZONE
BEGIN:VEVENT
DTSTART;TZID=America/Chicago:20270711T073000
DTEND;TZID=America/Chicago:20270711T083000
DTSTAMP:20260421T201022
CREATED:20260414T152122Z
LAST-MODIFIED:20260414T152126Z
UID:10000733-1815291000-1815294600@stmatthewskenosha.net
SUMMARY:Holy Eucharist (Early Service)
DESCRIPTION:Traditional Sunday worship service with Holy Eucharist & sermon
URL:https://stmatthewskenosha.net/event/holy-eucharist-early-service/2027-07-11/
LOCATION:St. Matthew’s Episcopal Church\, 5900 7th Ave\, Kenosha\, WI\, 53140\, United States
END:VEVENT
BEGIN:VEVENT
DTSTART;TZID=America/Chicago:20270711T110000
DTEND;TZID=America/Chicago:20270711T120000
DTSTAMP:20260421T201022
CREATED:20260414T152437Z
LAST-MODIFIED:20260414T152443Z
UID:10000991-1815303600-1815307200@stmatthewskenosha.net
SUMMARY:Holy Eucharist (Late Service)
DESCRIPTION:Traditional Sunday worship service with Holy Eucharist\, music & sermon
URL:https://stmatthewskenosha.net/event/holy-eucharist-late-service/2027-07-11/
LOCATION:St. Matthew’s Episcopal Church\, 5900 7th Ave\, Kenosha\, WI\, 53140\, United States
END:VEVENT
BEGIN:VEVENT
DTSTART;TZID=America/Chicago:20270713T180000
DTEND;TZID=America/Chicago:20270713T190000
DTSTAMP:20260421T201022
CREATED:20260414T174815Z
LAST-MODIFIED:20260414T174820Z
UID:10001508-1815501600-1815505200@stmatthewskenosha.net
SUMMARY:Finance Meeting
DESCRIPTION:Finance Committee meeting\, 2nd Tuesday of the month
URL:https://stmatthewskenosha.net/event/finance-meeting/2027-07-13/
LOCATION:Lower Hall (Guild Hall)\, 5900 7th Ave\, Kenosha\, WI\, 53140\, United States
CATEGORIES:Meeting
ATTACH;FMTTYPE=image/png:https://stmatthewskenosha.net/wp-content/uploads/2025/09/81.png
END:VEVENT
BEGIN:VEVENT
DTSTART;TZID=America/Chicago:20270718T073000
DTEND;TZID=America/Chicago:20270718T083000
DTSTAMP:20260421T201022
CREATED:20260414T152122Z
LAST-MODIFIED:20260414T152126Z
UID:10000734-1815895800-1815899400@stmatthewskenosha.net
SUMMARY:Holy Eucharist (Early Service)
DESCRIPTION:Traditional Sunday worship service with Holy Eucharist & sermon
URL:https://stmatthewskenosha.net/event/holy-eucharist-early-service/2027-07-18/
LOCATION:St. Matthew’s Episcopal Church\, 5900 7th Ave\, Kenosha\, WI\, 53140\, United States
END:VEVENT
BEGIN:VEVENT
DTSTART;TZID=America/Chicago:20270718T110000
DTEND;TZID=America/Chicago:20270718T120000
DTSTAMP:20260421T201022
CREATED:20260414T152437Z
LAST-MODIFIED:20260414T152443Z
UID:10000992-1815908400-1815912000@stmatthewskenosha.net
SUMMARY:Holy Eucharist (Late Service)
DESCRIPTION:Traditional Sunday worship service with Holy Eucharist\, music & sermon
URL:https://stmatthewskenosha.net/event/holy-eucharist-late-service/2027-07-18/
LOCATION:St. Matthew’s Episcopal Church\, 5900 7th Ave\, Kenosha\, WI\, 53140\, United States
END:VEVENT
BEGIN:VEVENT
DTSTART;TZID=America/Chicago:20270720T190000
DTEND;TZID=America/Chicago:20270720T203000
DTSTAMP:20260421T201022
CREATED:20260414T161319Z
LAST-MODIFIED:20260414T161412Z
UID:10001325-1816110000-1816115400@stmatthewskenosha.net
SUMMARY:Vestry Meeting
DESCRIPTION:Monthly Vestry meeting on the third Tuesday on every month.
URL:https://stmatthewskenosha.net/event/vestry-meeting-2/2027-07-20/
LOCATION:Lower Hall (Guild Hall)\, 5900 7th Ave\, Kenosha\, WI\, 53140\, United States
CATEGORIES:Meeting
ATTACH;FMTTYPE=image/png:https://stmatthewskenosha.net/wp-content/uploads/2025/09/lay-ministry.png
END:VEVENT
BEGIN:VEVENT
DTSTART;TZID=America/Chicago:20270725T073000
DTEND;TZID=America/Chicago:20270725T083000
DTSTAMP:20260421T201022
CREATED:20260414T152122Z
LAST-MODIFIED:20260414T152126Z
UID:10000735-1816500600-1816504200@stmatthewskenosha.net
SUMMARY:Holy Eucharist (Early Service)
DESCRIPTION:Traditional Sunday worship service with Holy Eucharist & sermon
URL:https://stmatthewskenosha.net/event/holy-eucharist-early-service/2027-07-25/
LOCATION:St. Matthew’s Episcopal Church\, 5900 7th Ave\, Kenosha\, WI\, 53140\, United States
END:VEVENT
BEGIN:VEVENT
DTSTART;TZID=America/Chicago:20270725T110000
DTEND;TZID=America/Chicago:20270725T120000
DTSTAMP:20260421T201022
CREATED:20260414T152437Z
LAST-MODIFIED:20260414T152443Z
UID:10000993-1816513200-1816516800@stmatthewskenosha.net
SUMMARY:Holy Eucharist (Late Service)
DESCRIPTION:Traditional Sunday worship service with Holy Eucharist\, music & sermon
URL:https://stmatthewskenosha.net/event/holy-eucharist-late-service/2027-07-25/
LOCATION:St. Matthew’s Episcopal Church\, 5900 7th Ave\, Kenosha\, WI\, 53140\, United States
END:VEVENT
BEGIN:VEVENT
DTSTART;TZID=America/Chicago:20270801T073000
DTEND;TZID=America/Chicago:20270801T083000
DTSTAMP:20260421T201022
CREATED:20260414T152122Z
LAST-MODIFIED:20260414T152126Z
UID:10000736-1817105400-1817109000@stmatthewskenosha.net
SUMMARY:Holy Eucharist (Early Service)
DESCRIPTION:Traditional Sunday worship service with Holy Eucharist & sermon
URL:https://stmatthewskenosha.net/event/holy-eucharist-early-service/2027-08-01/
LOCATION:St. Matthew’s Episcopal Church\, 5900 7th Ave\, Kenosha\, WI\, 53140\, United States
END:VEVENT
BEGIN:VEVENT
DTSTART;TZID=America/Chicago:20270801T110000
DTEND;TZID=America/Chicago:20270801T120000
DTSTAMP:20260421T201022
CREATED:20260414T152437Z
LAST-MODIFIED:20260414T152443Z
UID:10000994-1817118000-1817121600@stmatthewskenosha.net
SUMMARY:Holy Eucharist (Late Service)
DESCRIPTION:Traditional Sunday worship service with Holy Eucharist\, music & sermon
URL:https://stmatthewskenosha.net/event/holy-eucharist-late-service/2027-08-01/
LOCATION:St. Matthew’s Episcopal Church\, 5900 7th Ave\, Kenosha\, WI\, 53140\, United States
END:VEVENT
BEGIN:VEVENT
DTSTART;TZID=America/Chicago:20270804T173000
DTEND;TZID=America/Chicago:20270804T183000
DTSTAMP:20260421T201022
CREATED:20260414T175607Z
LAST-MODIFIED:20260414T175612Z
UID:10001569-1817400600-1817404200@stmatthewskenosha.net
SUMMARY:Buildings & Grounds Meeting
DESCRIPTION:Monthly Buildings & Grounds committee meeting on the 1st Wednesday of every month.
URL:https://stmatthewskenosha.net/event/buildings-grounds-meeting/2027-08-04/
LOCATION:Lower Hall (Guild Hall)\, 5900 7th Ave\, Kenosha\, WI\, 53140\, United States
CATEGORIES:Meeting
ATTACH;FMTTYPE=image/png:https://stmatthewskenosha.net/wp-content/uploads/2025/09/helping-hands.png
END:VEVENT
BEGIN:VEVENT
DTSTART;TZID=America/Chicago:20270808T073000
DTEND;TZID=America/Chicago:20270808T083000
DTSTAMP:20260421T201022
CREATED:20260414T152122Z
LAST-MODIFIED:20260414T152126Z
UID:10000737-1817710200-1817713800@stmatthewskenosha.net
SUMMARY:Holy Eucharist (Early Service)
DESCRIPTION:Traditional Sunday worship service with Holy Eucharist & sermon
URL:https://stmatthewskenosha.net/event/holy-eucharist-early-service/2027-08-08/
LOCATION:St. Matthew’s Episcopal Church\, 5900 7th Ave\, Kenosha\, WI\, 53140\, United States
END:VEVENT
BEGIN:VEVENT
DTSTART;TZID=America/Chicago:20270808T110000
DTEND;TZID=America/Chicago:20270808T120000
DTSTAMP:20260421T201022
CREATED:20260414T152437Z
LAST-MODIFIED:20260414T152443Z
UID:10000995-1817722800-1817726400@stmatthewskenosha.net
SUMMARY:Holy Eucharist (Late Service)
DESCRIPTION:Traditional Sunday worship service with Holy Eucharist\, music & sermon
URL:https://stmatthewskenosha.net/event/holy-eucharist-late-service/2027-08-08/
LOCATION:St. Matthew’s Episcopal Church\, 5900 7th Ave\, Kenosha\, WI\, 53140\, United States
END:VEVENT
BEGIN:VEVENT
DTSTART;TZID=America/Chicago:20270810T180000
DTEND;TZID=America/Chicago:20270810T190000
DTSTAMP:20260421T201022
CREATED:20260414T174815Z
LAST-MODIFIED:20260414T174820Z
UID:10001509-1817920800-1817924400@stmatthewskenosha.net
SUMMARY:Finance Meeting
DESCRIPTION:Finance Committee meeting\, 2nd Tuesday of the month
URL:https://stmatthewskenosha.net/event/finance-meeting/2027-08-10/
LOCATION:Lower Hall (Guild Hall)\, 5900 7th Ave\, Kenosha\, WI\, 53140\, United States
CATEGORIES:Meeting
ATTACH;FMTTYPE=image/png:https://stmatthewskenosha.net/wp-content/uploads/2025/09/81.png
END:VEVENT
BEGIN:VEVENT
DTSTART;TZID=America/Chicago:20270814T100000
DTEND;TZID=America/Chicago:20270814T110000
DTSTAMP:20260421T201022
CREATED:20260414T153237Z
LAST-MODIFIED:20260414T153242Z
UID:10001203-1818237600-1818241200@stmatthewskenosha.net
SUMMARY:Sips & Scripture
DESCRIPTION:Sip & Scripture is a NEW faith and fellowship group for the women of St. Matthew’s. We will have new topics to discuss monthly with open discussion. \n\n\n\nWe are reading “Women of the BIble” by Ann Spangler (Author)\, Jean E. Syswerda (Author)
URL:https://stmatthewskenosha.net/event/sips-scripture-2/2027-08-14/
LOCATION:Marina Gardens\, 5001 7th Ave\, Kenosha\, Wisconsin\, 53140\, United States
CATEGORIES:Outreach
ATTACH;FMTTYPE=image/png:https://stmatthewskenosha.net/wp-content/uploads/2026/03/Screenshot-2026-01-08-at-11.15.42-AM.png
END:VEVENT
BEGIN:VEVENT
DTSTART;TZID=America/Chicago:20270815T073000
DTEND;TZID=America/Chicago:20270815T083000
DTSTAMP:20260421T201022
CREATED:20260414T152122Z
LAST-MODIFIED:20260414T152126Z
UID:10000738-1818315000-1818318600@stmatthewskenosha.net
SUMMARY:Holy Eucharist (Early Service)
DESCRIPTION:Traditional Sunday worship service with Holy Eucharist & sermon
URL:https://stmatthewskenosha.net/event/holy-eucharist-early-service/2027-08-15/
LOCATION:St. Matthew’s Episcopal Church\, 5900 7th Ave\, Kenosha\, WI\, 53140\, United States
END:VEVENT
BEGIN:VEVENT
DTSTART;TZID=America/Chicago:20270815T110000
DTEND;TZID=America/Chicago:20270815T120000
DTSTAMP:20260421T201022
CREATED:20260414T152437Z
LAST-MODIFIED:20260414T152443Z
UID:10000996-1818327600-1818331200@stmatthewskenosha.net
SUMMARY:Holy Eucharist (Late Service)
DESCRIPTION:Traditional Sunday worship service with Holy Eucharist\, music & sermon
URL:https://stmatthewskenosha.net/event/holy-eucharist-late-service/2027-08-15/
LOCATION:St. Matthew’s Episcopal Church\, 5900 7th Ave\, Kenosha\, WI\, 53140\, United States
END:VEVENT
BEGIN:VEVENT
DTSTART;TZID=America/Chicago:20270817T190000
DTEND;TZID=America/Chicago:20270817T203000
DTSTAMP:20260421T201022
CREATED:20260414T161319Z
LAST-MODIFIED:20260414T161412Z
UID:10001326-1818529200-1818534600@stmatthewskenosha.net
SUMMARY:Vestry Meeting
DESCRIPTION:Monthly Vestry meeting on the third Tuesday on every month.
URL:https://stmatthewskenosha.net/event/vestry-meeting-2/2027-08-17/
LOCATION:Lower Hall (Guild Hall)\, 5900 7th Ave\, Kenosha\, WI\, 53140\, United States
CATEGORIES:Meeting
ATTACH;FMTTYPE=image/png:https://stmatthewskenosha.net/wp-content/uploads/2025/09/lay-ministry.png
END:VEVENT
BEGIN:VEVENT
DTSTART;TZID=America/Chicago:20270822T073000
DTEND;TZID=America/Chicago:20270822T083000
DTSTAMP:20260421T201022
CREATED:20260414T152122Z
LAST-MODIFIED:20260414T152126Z
UID:10000739-1818919800-1818923400@stmatthewskenosha.net
SUMMARY:Holy Eucharist (Early Service)
DESCRIPTION:Traditional Sunday worship service with Holy Eucharist & sermon
URL:https://stmatthewskenosha.net/event/holy-eucharist-early-service/2027-08-22/
LOCATION:St. Matthew’s Episcopal Church\, 5900 7th Ave\, Kenosha\, WI\, 53140\, United States
END:VEVENT
BEGIN:VEVENT
DTSTART;TZID=America/Chicago:20270822T110000
DTEND;TZID=America/Chicago:20270822T120000
DTSTAMP:20260421T201022
CREATED:20260414T152437Z
LAST-MODIFIED:20260414T152443Z
UID:10000997-1818932400-1818936000@stmatthewskenosha.net
SUMMARY:Holy Eucharist (Late Service)
DESCRIPTION:Traditional Sunday worship service with Holy Eucharist\, music & sermon
URL:https://stmatthewskenosha.net/event/holy-eucharist-late-service/2027-08-22/
LOCATION:St. Matthew’s Episcopal Church\, 5900 7th Ave\, Kenosha\, WI\, 53140\, United States
END:VEVENT
BEGIN:VEVENT
DTSTART;TZID=America/Chicago:20270829T073000
DTEND;TZID=America/Chicago:20270829T083000
DTSTAMP:20260421T201022
CREATED:20260414T152122Z
LAST-MODIFIED:20260414T152126Z
UID:10000740-1819524600-1819528200@stmatthewskenosha.net
SUMMARY:Holy Eucharist (Early Service)
DESCRIPTION:Traditional Sunday worship service with Holy Eucharist & sermon
URL:https://stmatthewskenosha.net/event/holy-eucharist-early-service/2027-08-29/
LOCATION:St. Matthew’s Episcopal Church\, 5900 7th Ave\, Kenosha\, WI\, 53140\, United States
END:VEVENT
BEGIN:VEVENT
DTSTART;TZID=America/Chicago:20270829T110000
DTEND;TZID=America/Chicago:20270829T120000
DTSTAMP:20260421T201022
CREATED:20260414T152437Z
LAST-MODIFIED:20260414T152443Z
UID:10000998-1819537200-1819540800@stmatthewskenosha.net
SUMMARY:Holy Eucharist (Late Service)
DESCRIPTION:Traditional Sunday worship service with Holy Eucharist\, music & sermon
URL:https://stmatthewskenosha.net/event/holy-eucharist-late-service/2027-08-29/
LOCATION:St. Matthew’s Episcopal Church\, 5900 7th Ave\, Kenosha\, WI\, 53140\, United States
END:VEVENT
BEGIN:VEVENT
DTSTART;TZID=America/Chicago:20270901T173000
DTEND;TZID=America/Chicago:20270901T183000
DTSTAMP:20260421T201022
CREATED:20260414T175607Z
LAST-MODIFIED:20260414T175612Z
UID:10001570-1819819800-1819823400@stmatthewskenosha.net
SUMMARY:Buildings & Grounds Meeting
DESCRIPTION:Monthly Buildings & Grounds committee meeting on the 1st Wednesday of every month.
URL:https://stmatthewskenosha.net/event/buildings-grounds-meeting/2027-09-01/
LOCATION:Lower Hall (Guild Hall)\, 5900 7th Ave\, Kenosha\, WI\, 53140\, United States
CATEGORIES:Meeting
ATTACH;FMTTYPE=image/png:https://stmatthewskenosha.net/wp-content/uploads/2025/09/helping-hands.png
END:VEVENT
BEGIN:VEVENT
DTSTART;TZID=America/Chicago:20270905T073000
DTEND;TZID=America/Chicago:20270905T083000
DTSTAMP:20260421T201022
CREATED:20260414T152122Z
LAST-MODIFIED:20260414T152126Z
UID:10000741-1820129400-1820133000@stmatthewskenosha.net
SUMMARY:Holy Eucharist (Early Service)
DESCRIPTION:Traditional Sunday worship service with Holy Eucharist & sermon
URL:https://stmatthewskenosha.net/event/holy-eucharist-early-service/2027-09-05/
LOCATION:St. Matthew’s Episcopal Church\, 5900 7th Ave\, Kenosha\, WI\, 53140\, United States
END:VEVENT
BEGIN:VEVENT
DTSTART;TZID=America/Chicago:20270905T110000
DTEND;TZID=America/Chicago:20270905T120000
DTSTAMP:20260421T201022
CREATED:20260414T152437Z
LAST-MODIFIED:20260414T152443Z
UID:10000999-1820142000-1820145600@stmatthewskenosha.net
SUMMARY:Holy Eucharist (Late Service)
DESCRIPTION:Traditional Sunday worship service with Holy Eucharist\, music & sermon
URL:https://stmatthewskenosha.net/event/holy-eucharist-late-service/2027-09-05/
LOCATION:St. Matthew’s Episcopal Church\, 5900 7th Ave\, Kenosha\, WI\, 53140\, United States
END:VEVENT
BEGIN:VEVENT
DTSTART;TZID=America/Chicago:20270911T100000
DTEND;TZID=America/Chicago:20270911T110000
DTSTAMP:20260421T201022
CREATED:20260414T153237Z
LAST-MODIFIED:20260414T153242Z
UID:10001204-1820656800-1820660400@stmatthewskenosha.net
SUMMARY:Sips & Scripture
DESCRIPTION:Sip & Scripture is a NEW faith and fellowship group for the women of St. Matthew’s. We will have new topics to discuss monthly with open discussion. \n\n\n\nWe are reading “Women of the BIble” by Ann Spangler (Author)\, Jean E. Syswerda (Author)
URL:https://stmatthewskenosha.net/event/sips-scripture-2/2027-09-11/
LOCATION:Marina Gardens\, 5001 7th Ave\, Kenosha\, Wisconsin\, 53140\, United States
CATEGORIES:Outreach
ATTACH;FMTTYPE=image/png:https://stmatthewskenosha.net/wp-content/uploads/2026/03/Screenshot-2026-01-08-at-11.15.42-AM.png
END:VEVENT
BEGIN:VEVENT
DTSTART;TZID=America/Chicago:20270912T073000
DTEND;TZID=America/Chicago:20270912T083000
DTSTAMP:20260421T201022
CREATED:20260414T152122Z
LAST-MODIFIED:20260414T152126Z
UID:10000742-1820734200-1820737800@stmatthewskenosha.net
SUMMARY:Holy Eucharist (Early Service)
DESCRIPTION:Traditional Sunday worship service with Holy Eucharist & sermon
URL:https://stmatthewskenosha.net/event/holy-eucharist-early-service/2027-09-12/
LOCATION:St. Matthew’s Episcopal Church\, 5900 7th Ave\, Kenosha\, WI\, 53140\, United States
END:VEVENT
BEGIN:VEVENT
DTSTART;TZID=America/Chicago:20270912T110000
DTEND;TZID=America/Chicago:20270912T120000
DTSTAMP:20260421T201022
CREATED:20260414T152437Z
LAST-MODIFIED:20260414T152443Z
UID:10001000-1820746800-1820750400@stmatthewskenosha.net
SUMMARY:Holy Eucharist (Late Service)
DESCRIPTION:Traditional Sunday worship service with Holy Eucharist\, music & sermon
URL:https://stmatthewskenosha.net/event/holy-eucharist-late-service/2027-09-12/
LOCATION:St. Matthew’s Episcopal Church\, 5900 7th Ave\, Kenosha\, WI\, 53140\, United States
END:VEVENT
BEGIN:VEVENT
DTSTART;TZID=America/Chicago:20270914T180000
DTEND;TZID=America/Chicago:20270914T190000
DTSTAMP:20260421T201022
CREATED:20260414T174815Z
LAST-MODIFIED:20260414T174820Z
UID:10001510-1820944800-1820948400@stmatthewskenosha.net
SUMMARY:Finance Meeting
DESCRIPTION:Finance Committee meeting\, 2nd Tuesday of the month
URL:https://stmatthewskenosha.net/event/finance-meeting/2027-09-14/
LOCATION:Lower Hall (Guild Hall)\, 5900 7th Ave\, Kenosha\, WI\, 53140\, United States
CATEGORIES:Meeting
ATTACH;FMTTYPE=image/png:https://stmatthewskenosha.net/wp-content/uploads/2025/09/81.png
END:VEVENT
BEGIN:VEVENT
DTSTART;TZID=America/Chicago:20270919T073000
DTEND;TZID=America/Chicago:20270919T083000
DTSTAMP:20260421T201022
CREATED:20260414T152122Z
LAST-MODIFIED:20260414T152126Z
UID:10000743-1821339000-1821342600@stmatthewskenosha.net
SUMMARY:Holy Eucharist (Early Service)
DESCRIPTION:Traditional Sunday worship service with Holy Eucharist & sermon
URL:https://stmatthewskenosha.net/event/holy-eucharist-early-service/2027-09-19/
LOCATION:St. Matthew’s Episcopal Church\, 5900 7th Ave\, Kenosha\, WI\, 53140\, United States
END:VEVENT
END:VCALENDAR