BEGIN:VCALENDAR
VERSION:2.0
PRODID:-//St. Mathew&#039;s Episcopal Church - ECPv6.15.20//NONSGML v1.0//EN
CALSCALE:GREGORIAN
METHOD:PUBLISH
X-WR-CALNAME:St. Mathew&#039;s Episcopal Church
X-ORIGINAL-URL:https://stmatthewskenosha.net
X-WR-CALDESC:Events for St. Mathew&#039;s Episcopal Church
REFRESH-INTERVAL;VALUE=DURATION:PT1H
X-Robots-Tag:noindex
X-PUBLISHED-TTL:PT1H
BEGIN:VTIMEZONE
TZID:America/Chicago
BEGIN:DAYLIGHT
TZOFFSETFROM:-0600
TZOFFSETTO:-0500
TZNAME:CDT
DTSTART:20260308T080000
END:DAYLIGHT
BEGIN:STANDARD
TZOFFSETFROM:-0500
TZOFFSETTO:-0600
TZNAME:CST
DTSTART:20261101T070000
END:STANDARD
BEGIN:DAYLIGHT
TZOFFSETFROM:-0600
TZOFFSETTO:-0500
TZNAME:CDT
DTSTART:20270314T080000
END:DAYLIGHT
BEGIN:STANDARD
TZOFFSETFROM:-0500
TZOFFSETTO:-0600
TZNAME:CST
DTSTART:20271107T070000
END:STANDARD
BEGIN:DAYLIGHT
TZOFFSETFROM:-0600
TZOFFSETTO:-0500
TZNAME:CDT
DTSTART:20280312T080000
END:DAYLIGHT
BEGIN:STANDARD
TZOFFSETFROM:-0500
TZOFFSETTO:-0600
TZNAME:CST
DTSTART:20281105T070000
END:STANDARD
END:VTIMEZONE
BEGIN:VEVENT
DTSTART;TZID=America/Chicago:20270509T073000
DTEND;TZID=America/Chicago:20270509T083000
DTSTAMP:20260419T234643
CREATED:20260414T152122Z
LAST-MODIFIED:20260414T152126Z
UID:10000724-1809847800-1809851400@stmatthewskenosha.net
SUMMARY:Holy Eucharist (Early Service)
DESCRIPTION:Traditional Sunday worship service with Holy Eucharist & sermon
URL:https://stmatthewskenosha.net/event/holy-eucharist-early-service/2027-05-09/
LOCATION:St. Matthew’s Episcopal Church\, 5900 7th Ave\, Kenosha\, WI\, 53140\, United States
END:VEVENT
BEGIN:VEVENT
DTSTART;TZID=America/Chicago:20270509T110000
DTEND;TZID=America/Chicago:20270509T120000
DTSTAMP:20260419T234643
CREATED:20260414T152437Z
LAST-MODIFIED:20260414T152443Z
UID:10000982-1809860400-1809864000@stmatthewskenosha.net
SUMMARY:Holy Eucharist (Late Service)
DESCRIPTION:Traditional Sunday worship service with Holy Eucharist\, music & sermon
URL:https://stmatthewskenosha.net/event/holy-eucharist-late-service/2027-05-09/
LOCATION:St. Matthew’s Episcopal Church\, 5900 7th Ave\, Kenosha\, WI\, 53140\, United States
END:VEVENT
BEGIN:VEVENT
DTSTART;TZID=America/Chicago:20270511T180000
DTEND;TZID=America/Chicago:20270511T190000
DTSTAMP:20260419T234643
CREATED:20260414T174815Z
LAST-MODIFIED:20260414T174820Z
UID:10001506-1810058400-1810062000@stmatthewskenosha.net
SUMMARY:Finance Meeting
DESCRIPTION:Finance Committee meeting\, 2nd Tuesday of the month
URL:https://stmatthewskenosha.net/event/finance-meeting/2027-05-11/
LOCATION:Lower Hall (Guild Hall)\, 5900 7th Ave\, Kenosha\, WI\, 53140\, United States
CATEGORIES:Meeting
ATTACH;FMTTYPE=image/png:https://stmatthewskenosha.net/wp-content/uploads/2025/09/81.png
END:VEVENT
BEGIN:VEVENT
DTSTART;TZID=America/Chicago:20270516T073000
DTEND;TZID=America/Chicago:20270516T083000
DTSTAMP:20260419T234643
CREATED:20260414T152122Z
LAST-MODIFIED:20260414T152126Z
UID:10000725-1810452600-1810456200@stmatthewskenosha.net
SUMMARY:Holy Eucharist (Early Service)
DESCRIPTION:Traditional Sunday worship service with Holy Eucharist & sermon
URL:https://stmatthewskenosha.net/event/holy-eucharist-early-service/2027-05-16/
LOCATION:St. Matthew’s Episcopal Church\, 5900 7th Ave\, Kenosha\, WI\, 53140\, United States
END:VEVENT
BEGIN:VEVENT
DTSTART;TZID=America/Chicago:20270516T110000
DTEND;TZID=America/Chicago:20270516T120000
DTSTAMP:20260419T234643
CREATED:20260414T152437Z
LAST-MODIFIED:20260414T152443Z
UID:10000983-1810465200-1810468800@stmatthewskenosha.net
SUMMARY:Holy Eucharist (Late Service)
DESCRIPTION:Traditional Sunday worship service with Holy Eucharist\, music & sermon
URL:https://stmatthewskenosha.net/event/holy-eucharist-late-service/2027-05-16/
LOCATION:St. Matthew’s Episcopal Church\, 5900 7th Ave\, Kenosha\, WI\, 53140\, United States
END:VEVENT
BEGIN:VEVENT
DTSTART;TZID=America/Chicago:20270518T190000
DTEND;TZID=America/Chicago:20270518T203000
DTSTAMP:20260419T234643
CREATED:20260414T161319Z
LAST-MODIFIED:20260414T161412Z
UID:10001323-1810666800-1810672200@stmatthewskenosha.net
SUMMARY:Vestry Meeting
DESCRIPTION:Monthly Vestry meeting on the third Tuesday on every month.
URL:https://stmatthewskenosha.net/event/vestry-meeting-2/2027-05-18/
LOCATION:Lower Hall (Guild Hall)\, 5900 7th Ave\, Kenosha\, WI\, 53140\, United States
CATEGORIES:Meeting
ATTACH;FMTTYPE=image/png:https://stmatthewskenosha.net/wp-content/uploads/2025/09/lay-ministry.png
END:VEVENT
BEGIN:VEVENT
DTSTART;TZID=America/Chicago:20270523T073000
DTEND;TZID=America/Chicago:20270523T083000
DTSTAMP:20260419T234643
CREATED:20260414T152122Z
LAST-MODIFIED:20260414T152126Z
UID:10000726-1811057400-1811061000@stmatthewskenosha.net
SUMMARY:Holy Eucharist (Early Service)
DESCRIPTION:Traditional Sunday worship service with Holy Eucharist & sermon
URL:https://stmatthewskenosha.net/event/holy-eucharist-early-service/2027-05-23/
LOCATION:St. Matthew’s Episcopal Church\, 5900 7th Ave\, Kenosha\, WI\, 53140\, United States
END:VEVENT
BEGIN:VEVENT
DTSTART;TZID=America/Chicago:20270523T110000
DTEND;TZID=America/Chicago:20270523T120000
DTSTAMP:20260419T234643
CREATED:20260414T152437Z
LAST-MODIFIED:20260414T152443Z
UID:10000984-1811070000-1811073600@stmatthewskenosha.net
SUMMARY:Holy Eucharist (Late Service)
DESCRIPTION:Traditional Sunday worship service with Holy Eucharist\, music & sermon
URL:https://stmatthewskenosha.net/event/holy-eucharist-late-service/2027-05-23/
LOCATION:St. Matthew’s Episcopal Church\, 5900 7th Ave\, Kenosha\, WI\, 53140\, United States
END:VEVENT
BEGIN:VEVENT
DTSTART;TZID=America/Chicago:20270530T073000
DTEND;TZID=America/Chicago:20270530T083000
DTSTAMP:20260419T234643
CREATED:20260414T152122Z
LAST-MODIFIED:20260414T152126Z
UID:10000727-1811662200-1811665800@stmatthewskenosha.net
SUMMARY:Holy Eucharist (Early Service)
DESCRIPTION:Traditional Sunday worship service with Holy Eucharist & sermon
URL:https://stmatthewskenosha.net/event/holy-eucharist-early-service/2027-05-30/
LOCATION:St. Matthew’s Episcopal Church\, 5900 7th Ave\, Kenosha\, WI\, 53140\, United States
END:VEVENT
BEGIN:VEVENT
DTSTART;TZID=America/Chicago:20270530T110000
DTEND;TZID=America/Chicago:20270530T120000
DTSTAMP:20260419T234643
CREATED:20260414T152437Z
LAST-MODIFIED:20260414T152443Z
UID:10000985-1811674800-1811678400@stmatthewskenosha.net
SUMMARY:Holy Eucharist (Late Service)
DESCRIPTION:Traditional Sunday worship service with Holy Eucharist\, music & sermon
URL:https://stmatthewskenosha.net/event/holy-eucharist-late-service/2027-05-30/
LOCATION:St. Matthew’s Episcopal Church\, 5900 7th Ave\, Kenosha\, WI\, 53140\, United States
END:VEVENT
BEGIN:VEVENT
DTSTART;TZID=America/Chicago:20270602T173000
DTEND;TZID=America/Chicago:20270602T183000
DTSTAMP:20260419T234643
CREATED:20260414T175607Z
LAST-MODIFIED:20260414T175612Z
UID:10001567-1811957400-1811961000@stmatthewskenosha.net
SUMMARY:Buildings & Grounds Meeting
DESCRIPTION:Monthly Buildings & Grounds committee meeting on the 1st Wednesday of every month.
URL:https://stmatthewskenosha.net/event/buildings-grounds-meeting/2027-06-02/
LOCATION:Lower Hall (Guild Hall)\, 5900 7th Ave\, Kenosha\, WI\, 53140\, United States
CATEGORIES:Meeting
ATTACH;FMTTYPE=image/png:https://stmatthewskenosha.net/wp-content/uploads/2025/09/helping-hands.png
END:VEVENT
BEGIN:VEVENT
DTSTART;TZID=America/Chicago:20270606T073000
DTEND;TZID=America/Chicago:20270606T083000
DTSTAMP:20260419T234643
CREATED:20260414T152122Z
LAST-MODIFIED:20260414T152126Z
UID:10000728-1812267000-1812270600@stmatthewskenosha.net
SUMMARY:Holy Eucharist (Early Service)
DESCRIPTION:Traditional Sunday worship service with Holy Eucharist & sermon
URL:https://stmatthewskenosha.net/event/holy-eucharist-early-service/2027-06-06/
LOCATION:St. Matthew’s Episcopal Church\, 5900 7th Ave\, Kenosha\, WI\, 53140\, United States
END:VEVENT
BEGIN:VEVENT
DTSTART;TZID=America/Chicago:20270606T110000
DTEND;TZID=America/Chicago:20270606T120000
DTSTAMP:20260419T234643
CREATED:20260414T152437Z
LAST-MODIFIED:20260414T152443Z
UID:10000986-1812279600-1812283200@stmatthewskenosha.net
SUMMARY:Holy Eucharist (Late Service)
DESCRIPTION:Traditional Sunday worship service with Holy Eucharist\, music & sermon
URL:https://stmatthewskenosha.net/event/holy-eucharist-late-service/2027-06-06/
LOCATION:St. Matthew’s Episcopal Church\, 5900 7th Ave\, Kenosha\, WI\, 53140\, United States
END:VEVENT
BEGIN:VEVENT
DTSTART;TZID=America/Chicago:20270608T180000
DTEND;TZID=America/Chicago:20270608T190000
DTSTAMP:20260419T234643
CREATED:20260414T174815Z
LAST-MODIFIED:20260414T174820Z
UID:10001507-1812477600-1812481200@stmatthewskenosha.net
SUMMARY:Finance Meeting
DESCRIPTION:Finance Committee meeting\, 2nd Tuesday of the month
URL:https://stmatthewskenosha.net/event/finance-meeting/2027-06-08/
LOCATION:Lower Hall (Guild Hall)\, 5900 7th Ave\, Kenosha\, WI\, 53140\, United States
CATEGORIES:Meeting
ATTACH;FMTTYPE=image/png:https://stmatthewskenosha.net/wp-content/uploads/2025/09/81.png
END:VEVENT
BEGIN:VEVENT
DTSTART;TZID=America/Chicago:20270612T100000
DTEND;TZID=America/Chicago:20270612T110000
DTSTAMP:20260419T234643
CREATED:20260414T153237Z
LAST-MODIFIED:20260414T153242Z
UID:10001201-1812794400-1812798000@stmatthewskenosha.net
SUMMARY:Sips & Scripture
DESCRIPTION:Sip & Scripture is a NEW faith and fellowship group for the women of St. Matthew’s. We will have new topics to discuss monthly with open discussion. \n\n\n\nWe are reading “Women of the BIble” by Ann Spangler (Author)\, Jean E. Syswerda (Author)
URL:https://stmatthewskenosha.net/event/sips-scripture-2/2027-06-12/
LOCATION:Marina Gardens\, 5001 7th Ave\, Kenosha\, Wisconsin\, 53140\, United States
CATEGORIES:Outreach
ATTACH;FMTTYPE=image/png:https://stmatthewskenosha.net/wp-content/uploads/2026/03/Screenshot-2026-01-08-at-11.15.42-AM.png
END:VEVENT
BEGIN:VEVENT
DTSTART;TZID=America/Chicago:20270613T073000
DTEND;TZID=America/Chicago:20270613T083000
DTSTAMP:20260419T234643
CREATED:20260414T152122Z
LAST-MODIFIED:20260414T152126Z
UID:10000729-1812871800-1812875400@stmatthewskenosha.net
SUMMARY:Holy Eucharist (Early Service)
DESCRIPTION:Traditional Sunday worship service with Holy Eucharist & sermon
URL:https://stmatthewskenosha.net/event/holy-eucharist-early-service/2027-06-13/
LOCATION:St. Matthew’s Episcopal Church\, 5900 7th Ave\, Kenosha\, WI\, 53140\, United States
END:VEVENT
BEGIN:VEVENT
DTSTART;TZID=America/Chicago:20270613T110000
DTEND;TZID=America/Chicago:20270613T120000
DTSTAMP:20260419T234643
CREATED:20260414T152437Z
LAST-MODIFIED:20260414T152443Z
UID:10000987-1812884400-1812888000@stmatthewskenosha.net
SUMMARY:Holy Eucharist (Late Service)
DESCRIPTION:Traditional Sunday worship service with Holy Eucharist\, music & sermon
URL:https://stmatthewskenosha.net/event/holy-eucharist-late-service/2027-06-13/
LOCATION:St. Matthew’s Episcopal Church\, 5900 7th Ave\, Kenosha\, WI\, 53140\, United States
END:VEVENT
BEGIN:VEVENT
DTSTART;TZID=America/Chicago:20270615T190000
DTEND;TZID=America/Chicago:20270615T203000
DTSTAMP:20260419T234643
CREATED:20260414T161319Z
LAST-MODIFIED:20260414T161412Z
UID:10001324-1813086000-1813091400@stmatthewskenosha.net
SUMMARY:Vestry Meeting
DESCRIPTION:Monthly Vestry meeting on the third Tuesday on every month.
URL:https://stmatthewskenosha.net/event/vestry-meeting-2/2027-06-15/
LOCATION:Lower Hall (Guild Hall)\, 5900 7th Ave\, Kenosha\, WI\, 53140\, United States
CATEGORIES:Meeting
ATTACH;FMTTYPE=image/png:https://stmatthewskenosha.net/wp-content/uploads/2025/09/lay-ministry.png
END:VEVENT
BEGIN:VEVENT
DTSTART;TZID=America/Chicago:20270620T073000
DTEND;TZID=America/Chicago:20270620T083000
DTSTAMP:20260419T234643
CREATED:20260414T152122Z
LAST-MODIFIED:20260414T152126Z
UID:10000730-1813476600-1813480200@stmatthewskenosha.net
SUMMARY:Holy Eucharist (Early Service)
DESCRIPTION:Traditional Sunday worship service with Holy Eucharist & sermon
URL:https://stmatthewskenosha.net/event/holy-eucharist-early-service/2027-06-20/
LOCATION:St. Matthew’s Episcopal Church\, 5900 7th Ave\, Kenosha\, WI\, 53140\, United States
END:VEVENT
BEGIN:VEVENT
DTSTART;TZID=America/Chicago:20270620T110000
DTEND;TZID=America/Chicago:20270620T120000
DTSTAMP:20260419T234643
CREATED:20260414T152437Z
LAST-MODIFIED:20260414T152443Z
UID:10000988-1813489200-1813492800@stmatthewskenosha.net
SUMMARY:Holy Eucharist (Late Service)
DESCRIPTION:Traditional Sunday worship service with Holy Eucharist\, music & sermon
URL:https://stmatthewskenosha.net/event/holy-eucharist-late-service/2027-06-20/
LOCATION:St. Matthew’s Episcopal Church\, 5900 7th Ave\, Kenosha\, WI\, 53140\, United States
END:VEVENT
BEGIN:VEVENT
DTSTART;TZID=America/Chicago:20270627T073000
DTEND;TZID=America/Chicago:20270627T083000
DTSTAMP:20260419T234643
CREATED:20260414T152122Z
LAST-MODIFIED:20260414T152126Z
UID:10000731-1814081400-1814085000@stmatthewskenosha.net
SUMMARY:Holy Eucharist (Early Service)
DESCRIPTION:Traditional Sunday worship service with Holy Eucharist & sermon
URL:https://stmatthewskenosha.net/event/holy-eucharist-early-service/2027-06-27/
LOCATION:St. Matthew’s Episcopal Church\, 5900 7th Ave\, Kenosha\, WI\, 53140\, United States
END:VEVENT
BEGIN:VEVENT
DTSTART;TZID=America/Chicago:20270627T110000
DTEND;TZID=America/Chicago:20270627T120000
DTSTAMP:20260419T234643
CREATED:20260414T152437Z
LAST-MODIFIED:20260414T152443Z
UID:10000989-1814094000-1814097600@stmatthewskenosha.net
SUMMARY:Holy Eucharist (Late Service)
DESCRIPTION:Traditional Sunday worship service with Holy Eucharist\, music & sermon
URL:https://stmatthewskenosha.net/event/holy-eucharist-late-service/2027-06-27/
LOCATION:St. Matthew’s Episcopal Church\, 5900 7th Ave\, Kenosha\, WI\, 53140\, United States
END:VEVENT
BEGIN:VEVENT
DTSTART;TZID=America/Chicago:20270704T073000
DTEND;TZID=America/Chicago:20270704T083000
DTSTAMP:20260419T234643
CREATED:20260414T152122Z
LAST-MODIFIED:20260414T152126Z
UID:10000732-1814686200-1814689800@stmatthewskenosha.net
SUMMARY:Holy Eucharist (Early Service)
DESCRIPTION:Traditional Sunday worship service with Holy Eucharist & sermon
URL:https://stmatthewskenosha.net/event/holy-eucharist-early-service/2027-07-04/
LOCATION:St. Matthew’s Episcopal Church\, 5900 7th Ave\, Kenosha\, WI\, 53140\, United States
END:VEVENT
BEGIN:VEVENT
DTSTART;TZID=America/Chicago:20270704T110000
DTEND;TZID=America/Chicago:20270704T120000
DTSTAMP:20260419T234643
CREATED:20260414T152437Z
LAST-MODIFIED:20260414T152443Z
UID:10000990-1814698800-1814702400@stmatthewskenosha.net
SUMMARY:Holy Eucharist (Late Service)
DESCRIPTION:Traditional Sunday worship service with Holy Eucharist\, music & sermon
URL:https://stmatthewskenosha.net/event/holy-eucharist-late-service/2027-07-04/
LOCATION:St. Matthew’s Episcopal Church\, 5900 7th Ave\, Kenosha\, WI\, 53140\, United States
END:VEVENT
BEGIN:VEVENT
DTSTART;TZID=America/Chicago:20270707T173000
DTEND;TZID=America/Chicago:20270707T183000
DTSTAMP:20260419T234643
CREATED:20260414T175607Z
LAST-MODIFIED:20260414T175612Z
UID:10001568-1814981400-1814985000@stmatthewskenosha.net
SUMMARY:Buildings & Grounds Meeting
DESCRIPTION:Monthly Buildings & Grounds committee meeting on the 1st Wednesday of every month.
URL:https://stmatthewskenosha.net/event/buildings-grounds-meeting/2027-07-07/
LOCATION:Lower Hall (Guild Hall)\, 5900 7th Ave\, Kenosha\, WI\, 53140\, United States
CATEGORIES:Meeting
ATTACH;FMTTYPE=image/png:https://stmatthewskenosha.net/wp-content/uploads/2025/09/helping-hands.png
END:VEVENT
BEGIN:VEVENT
DTSTART;TZID=America/Chicago:20270710T100000
DTEND;TZID=America/Chicago:20270710T110000
DTSTAMP:20260419T234643
CREATED:20260414T153237Z
LAST-MODIFIED:20260414T153242Z
UID:10001202-1815213600-1815217200@stmatthewskenosha.net
SUMMARY:Sips & Scripture
DESCRIPTION:Sip & Scripture is a NEW faith and fellowship group for the women of St. Matthew’s. We will have new topics to discuss monthly with open discussion. \n\n\n\nWe are reading “Women of the BIble” by Ann Spangler (Author)\, Jean E. Syswerda (Author)
URL:https://stmatthewskenosha.net/event/sips-scripture-2/2027-07-10/
LOCATION:Marina Gardens\, 5001 7th Ave\, Kenosha\, Wisconsin\, 53140\, United States
CATEGORIES:Outreach
ATTACH;FMTTYPE=image/png:https://stmatthewskenosha.net/wp-content/uploads/2026/03/Screenshot-2026-01-08-at-11.15.42-AM.png
END:VEVENT
BEGIN:VEVENT
DTSTART;TZID=America/Chicago:20270711T073000
DTEND;TZID=America/Chicago:20270711T083000
DTSTAMP:20260419T234643
CREATED:20260414T152122Z
LAST-MODIFIED:20260414T152126Z
UID:10000733-1815291000-1815294600@stmatthewskenosha.net
SUMMARY:Holy Eucharist (Early Service)
DESCRIPTION:Traditional Sunday worship service with Holy Eucharist & sermon
URL:https://stmatthewskenosha.net/event/holy-eucharist-early-service/2027-07-11/
LOCATION:St. Matthew’s Episcopal Church\, 5900 7th Ave\, Kenosha\, WI\, 53140\, United States
END:VEVENT
BEGIN:VEVENT
DTSTART;TZID=America/Chicago:20270711T110000
DTEND;TZID=America/Chicago:20270711T120000
DTSTAMP:20260419T234643
CREATED:20260414T152437Z
LAST-MODIFIED:20260414T152443Z
UID:10000991-1815303600-1815307200@stmatthewskenosha.net
SUMMARY:Holy Eucharist (Late Service)
DESCRIPTION:Traditional Sunday worship service with Holy Eucharist\, music & sermon
URL:https://stmatthewskenosha.net/event/holy-eucharist-late-service/2027-07-11/
LOCATION:St. Matthew’s Episcopal Church\, 5900 7th Ave\, Kenosha\, WI\, 53140\, United States
END:VEVENT
BEGIN:VEVENT
DTSTART;TZID=America/Chicago:20270713T180000
DTEND;TZID=America/Chicago:20270713T190000
DTSTAMP:20260419T234643
CREATED:20260414T174815Z
LAST-MODIFIED:20260414T174820Z
UID:10001508-1815501600-1815505200@stmatthewskenosha.net
SUMMARY:Finance Meeting
DESCRIPTION:Finance Committee meeting\, 2nd Tuesday of the month
URL:https://stmatthewskenosha.net/event/finance-meeting/2027-07-13/
LOCATION:Lower Hall (Guild Hall)\, 5900 7th Ave\, Kenosha\, WI\, 53140\, United States
CATEGORIES:Meeting
ATTACH;FMTTYPE=image/png:https://stmatthewskenosha.net/wp-content/uploads/2025/09/81.png
END:VEVENT
BEGIN:VEVENT
DTSTART;TZID=America/Chicago:20270718T073000
DTEND;TZID=America/Chicago:20270718T083000
DTSTAMP:20260419T234643
CREATED:20260414T152122Z
LAST-MODIFIED:20260414T152126Z
UID:10000734-1815895800-1815899400@stmatthewskenosha.net
SUMMARY:Holy Eucharist (Early Service)
DESCRIPTION:Traditional Sunday worship service with Holy Eucharist & sermon
URL:https://stmatthewskenosha.net/event/holy-eucharist-early-service/2027-07-18/
LOCATION:St. Matthew’s Episcopal Church\, 5900 7th Ave\, Kenosha\, WI\, 53140\, United States
END:VEVENT
END:VCALENDAR