BEGIN:VCALENDAR
VERSION:2.0
PRODID:-//St. Mathew&#039;s Episcopal Church - ECPv6.15.20//NONSGML v1.0//EN
CALSCALE:GREGORIAN
METHOD:PUBLISH
X-WR-CALNAME:St. Mathew&#039;s Episcopal Church
X-ORIGINAL-URL:https://stmatthewskenosha.net
X-WR-CALDESC:Events for St. Mathew&#039;s Episcopal Church
REFRESH-INTERVAL;VALUE=DURATION:PT1H
X-Robots-Tag:noindex
X-PUBLISHED-TTL:PT1H
BEGIN:VTIMEZONE
TZID:America/Chicago
BEGIN:DAYLIGHT
TZOFFSETFROM:-0600
TZOFFSETTO:-0500
TZNAME:CDT
DTSTART:20250309T080000
END:DAYLIGHT
BEGIN:STANDARD
TZOFFSETFROM:-0500
TZOFFSETTO:-0600
TZNAME:CST
DTSTART:20251102T070000
END:STANDARD
BEGIN:DAYLIGHT
TZOFFSETFROM:-0600
TZOFFSETTO:-0500
TZNAME:CDT
DTSTART:20260308T080000
END:DAYLIGHT
BEGIN:STANDARD
TZOFFSETFROM:-0500
TZOFFSETTO:-0600
TZNAME:CST
DTSTART:20261101T070000
END:STANDARD
BEGIN:DAYLIGHT
TZOFFSETFROM:-0600
TZOFFSETTO:-0500
TZNAME:CDT
DTSTART:20270314T080000
END:DAYLIGHT
BEGIN:STANDARD
TZOFFSETFROM:-0500
TZOFFSETTO:-0600
TZNAME:CST
DTSTART:20271107T070000
END:STANDARD
END:VTIMEZONE
BEGIN:VEVENT
DTSTART;TZID=America/Chicago:20260503T110000
DTEND;TZID=America/Chicago:20260503T120000
DTSTAMP:20260420T045010
CREATED:20260401T193255Z
LAST-MODIFIED:20260419T002011Z
UID:10000054-1777806000-1777809600@stmatthewskenosha.net
SUMMARY:Bishop's Visit [Combined Mass]
DESCRIPTION:Our Bishop\, The Right Reverend Matthew Gunter\, is coming to visit St. Matthew’s on the Fifth Sunday of Easter: May 3\, 2026. Bishop’s are required under canon law to visit each congregation in the Diocese once every three years… and 2026 is the year we are blessed to have him present with us! \n\n\n\nThe Bishop will be the Celebrant at our combined Mass at 11am that day and will remain for a reception and conversation with the parish (which we will hold in the upper Guild Hall). \n\n\n\nThere will not be an early service this week.
URL:https://stmatthewskenosha.net/event/bishops-visit/
LOCATION:St. Matthew’s Episcopal Church\, 5900 7th Ave\, Kenosha\, WI\, 53140\, United States
CATEGORIES:Parish Gathering
ATTACH;FMTTYPE=image/png:https://stmatthewskenosha.net/wp-content/uploads/2025/02/42-1.png
ORGANIZER;CN="St Matthew's Episcopal Church":MAILTO:contact@stmatthewskenosha.org
END:VEVENT
END:VCALENDAR