BEGIN:VCALENDAR
VERSION:2.0
PRODID:-//St. Mathew&#039;s Episcopal Church - ECPv6.15.20//NONSGML v1.0//EN
CALSCALE:GREGORIAN
METHOD:PUBLISH
X-WR-CALNAME:St. Mathew&#039;s Episcopal Church
X-ORIGINAL-URL:https://stmatthewskenosha.net
X-WR-CALDESC:Events for St. Mathew&#039;s Episcopal Church
REFRESH-INTERVAL;VALUE=DURATION:PT1H
X-Robots-Tag:noindex
X-PUBLISHED-TTL:PT1H
BEGIN:VTIMEZONE
TZID:America/Chicago
BEGIN:DAYLIGHT
TZOFFSETFROM:-0600
TZOFFSETTO:-0500
TZNAME:CDT
DTSTART:20250309T080000
END:DAYLIGHT
BEGIN:STANDARD
TZOFFSETFROM:-0500
TZOFFSETTO:-0600
TZNAME:CST
DTSTART:20251102T070000
END:STANDARD
BEGIN:DAYLIGHT
TZOFFSETFROM:-0600
TZOFFSETTO:-0500
TZNAME:CDT
DTSTART:20260308T080000
END:DAYLIGHT
BEGIN:STANDARD
TZOFFSETFROM:-0500
TZOFFSETTO:-0600
TZNAME:CST
DTSTART:20261101T070000
END:STANDARD
BEGIN:DAYLIGHT
TZOFFSETFROM:-0600
TZOFFSETTO:-0500
TZNAME:CDT
DTSTART:20270314T080000
END:DAYLIGHT
BEGIN:STANDARD
TZOFFSETFROM:-0500
TZOFFSETTO:-0600
TZNAME:CST
DTSTART:20271107T070000
END:STANDARD
END:VTIMEZONE
BEGIN:VEVENT
DTSTART;TZID=America/Chicago:20260501T120000
DTEND;TZID=America/Chicago:20260501T130000
DTSTAMP:20260420T044135
CREATED:20260419T000946Z
LAST-MODIFIED:20260419T000949Z
UID:10001619-1777636800-1777640400@stmatthewskenosha.net
SUMMARY:Feast of Saint Philip & Saint James\, Apostles
DESCRIPTION:The Feast of Saints Philip and James honors two of the original twelve Apostles. They share this feast day because their relics were translated together to the Church of the Holy Apostles in Rome in the 6th century. Philip was an early disciple who preached in Greece\, while James the Less was the first Bishop of Jerusalem. \n\n\n\nWe will meet at NOON at St. Matthew’s Episcopal Church in Kenosha. The service will take place in our CHAPEL.
URL:https://stmatthewskenosha.net/event/feast-of-saint-philip-saint-james-apostles/
LOCATION:Chapel (St. Matthew’s)\, 5900 7th Ave\, Kenosha\, WI\, 53140\, United States
CATEGORIES:Episcopal Feasts & Fasts
ATTACH;FMTTYPE=image/png:https://stmatthewskenosha.net/wp-content/uploads/2026/04/feast-st-phillip-st-james.png
END:VEVENT
END:VCALENDAR